BEGIN:VCALENDAR
VERSION:2.0
PRODID:-//achurchnearyou.com//eventfeed//EN
CALSCALE:GREGORIAN
METHOD:PUBLISH
X-WR-TIMEZONE:UTC
BEGIN:VEVENT
SUMMARY:Carol Service
DTSTART:20251214T170000Z
DTEND:20251214T180000Z
DTSTAMP:20260425T011051Z
UID:12545452025-12-14 17:00:00+00:00achurchnearyou
CATEGORIES:
DESCRIPTION:Service with readings and carols
GEO:-3.372243;54.730853
LOCATION:St Mary
URL:https://www.achurchnearyou.com/church/12519/service-and-events/events/
 1254545/
END:VEVENT
END:VCALENDAR
