BEGIN:VCALENDAR
VERSION:2.0
PRODID:-//achurchnearyou.com//eventfeed//EN
CALSCALE:GREGORIAN
METHOD:PUBLISH
X-WR-TIMEZONE:UTC
BEGIN:VEVENT
SUMMARY:Easter Communion
DTSTART:20260405T100000Z
DTEND:20260405T110000Z
DTSTAMP:20260424T203241Z
UID:13042732026-04-05 10:00:00+00:00achurchnearyou
CATEGORIES:
DESCRIPTION:Easter Sunday with communion
GEO:-3.372243;54.730853
LOCATION:St Mary
URL:https://www.achurchnearyou.com/church/12519/service-and-events/events/
 1304273/
END:VEVENT
END:VCALENDAR
