BEGIN:VCALENDAR
VERSION:2.0
PRODID:-//achurchnearyou.com//eventfeed//EN
CALSCALE:GREGORIAN
METHOD:PUBLISH
X-WR-TIMEZONE:UTC
BEGIN:VEVENT
SUMMARY:Sonrise Service
DTSTART:20250420T050000Z
DTEND:20250420T054500Z
DTSTAMP:20260419T153128Z
UID:11826052025-04-20 05:00:00+00:00achurchnearyou
CATEGORIES:
DESCRIPTION:An informal celebration of the resurrection of Jesus as the su
 n rises over Workington and the Solway Firth
LOCATION:Shore Hills\, Workington\,
URL:https://www.achurchnearyou.com/church/12534/service-and-events/events/
 1182605/
END:VEVENT
END:VCALENDAR
