BEGIN:VCALENDAR
VERSION:2.0
PRODID:-//achurchnearyou.com//eventfeed//EN
CALSCALE:GREGORIAN
METHOD:PUBLISH
X-WR-TIMEZONE:UTC
BEGIN:VEVENT
SUMMARY:Mid-week Carol Service
DTSTART:20251210T110000Z
DTEND:20251210T120000Z
DTSTAMP:20260424T042754Z
UID:12525342025-12-10 11:00:00+00:00achurchnearyou
CATEGORIES:
DESCRIPTION:A Christmas Carol edition of our regular Wednesday Worshipers 
 service with festive refreshments
GEO:1.164443;51.814949
LOCATION:Great Clacton: St Mark
URL:http://www.gtclactonparish.co.uk
END:VEVENT
END:VCALENDAR
