BEGIN:VCALENDAR
VERSION:2.0
PRODID:-//achurchnearyou.com//eventfeed//EN
CALSCALE:GREGORIAN
METHOD:PUBLISH
X-WR-TIMEZONE:UTC
BEGIN:VEVENT
SUMMARY:Cheese and wine evening
DTSTART:20251203T183000Z
DTEND:20251203T193000Z
DTSTAMP:20260425T173652Z
UID:11213822025-12-03 18:30:00+00:00achurchnearyou
CATEGORIES:
DESCRIPTION:Cheese and wine evening- cost £5\nTickets available from Joan
  (07960 151802) Karen (07575 492330) or\nAlan Hurst
GEO:-2.433321;53.098199
LOCATION:St Peter's
URL:https://www.achurchnearyou.com/church/12577/service-and-events/events/
 1121382/
END:VEVENT
END:VCALENDAR
