BEGIN:VCALENDAR
VERSION:2.0
PRODID:-//achurchnearyou.com//eventfeed//EN
CALSCALE:GREGORIAN
METHOD:PUBLISH
X-WR-TIMEZONE:UTC
BEGIN:VEVENT
SUMMARY:What's on around the Benefice this week.......
DTSTART:20250605T230000Z
DTEND:20250621T000000Z
DTSTAMP:20260421T194411Z
UID:12052252025-06-05 23:00:00+00:00achurchnearyou
CATEGORIES:
DESCRIPTION:Services this week and information about events during June 20
 25
GEO:-2.755456;53.261793
LOCATION:Alvanley Church\nSt John the Evangelist\nSt John's Norley\nChrist
  Church
URL:https://www.achurchnearyou.com/church/12596/service-and-events/events/
 1205225/
END:VEVENT
END:VCALENDAR
