BEGIN:VCALENDAR
VERSION:2.0
PRODID:-//achurchnearyou.com//eventfeed//EN
CALSCALE:GREGORIAN
METHOD:PUBLISH
X-WR-TIMEZONE:UTC
BEGIN:VEVENT
SUMMARY:Book Sale & Coffee Morning
DTSTART;TZID=Europe/London:20260314T100000
DTEND;TZID=Europe/London:20260314T120000
DTSTAMP:20260420T022125Z
UID:13020952026-03-14 10:00:00+00:00achurchnearyou
CATEGORIES:
DESCRIPTION:Every 2 months on the 2nd Saturday 10.00—12.00\nFREE tea\, c
 offee and delicious home-made fruit cake\nSecond-hand books: 50p each or 3
 -for-a-£\nCome along and browse our wide range of books or just pop in fo
 r a chat with friends old and new!
GEO:-2.791922;53.252287
LOCATION:St Luke's
URL:https://www.achurchnearyou.com/church/12598/service-and-events/events/
 1302095/
END:VEVENT
BEGIN:VEVENT
SUMMARY:Book Sale & Coffee Morning
DTSTART;TZID=Europe/London:20260509T100000
DTEND;TZID=Europe/London:20260509T120000
DTSTAMP:20260420T022125Z
UID:13020952026-05-09 10:00:00+01:00achurchnearyou
CATEGORIES:
DESCRIPTION:Every 2 months on the 2nd Saturday 10.00—12.00\nFREE tea\, c
 offee and delicious home-made fruit cake\nSecond-hand books: 50p each or 3
 -for-a-£\nCome along and browse our wide range of books or just pop in fo
 r a chat with friends old and new!
GEO:-2.791922;53.252287
LOCATION:St Luke's
URL:https://www.achurchnearyou.com/church/12598/service-and-events/events/
 1302095/
END:VEVENT
BEGIN:VEVENT
SUMMARY:Book Sale & Coffee Morning
DTSTART;TZID=Europe/London:20260711T100000
DTEND;TZID=Europe/London:20260711T120000
DTSTAMP:20260420T022125Z
UID:13020952026-07-11 10:00:00+01:00achurchnearyou
CATEGORIES:
DESCRIPTION:Every 2 months on the 2nd Saturday 10.00—12.00\nFREE tea\, c
 offee and delicious home-made fruit cake\nSecond-hand books: 50p each or 3
 -for-a-£\nCome along and browse our wide range of books or just pop in fo
 r a chat with friends old and new!
GEO:-2.791922;53.252287
LOCATION:St Luke's
URL:https://www.achurchnearyou.com/church/12598/service-and-events/events/
 1302095/
END:VEVENT
BEGIN:VEVENT
SUMMARY:Book Sale & Coffee Morning
DTSTART;TZID=Europe/London:20260912T100000
DTEND;TZID=Europe/London:20260912T120000
DTSTAMP:20260420T022125Z
UID:13020952026-09-12 10:00:00+01:00achurchnearyou
CATEGORIES:
DESCRIPTION:Every 2 months on the 2nd Saturday 10.00—12.00\nFREE tea\, c
 offee and delicious home-made fruit cake\nSecond-hand books: 50p each or 3
 -for-a-£\nCome along and browse our wide range of books or just pop in fo
 r a chat with friends old and new!
GEO:-2.791922;53.252287
LOCATION:St Luke's
URL:https://www.achurchnearyou.com/church/12598/service-and-events/events/
 1302095/
END:VEVENT
BEGIN:VEVENT
SUMMARY:Book Sale & Coffee Morning
DTSTART;TZID=Europe/London:20261114T100000
DTEND;TZID=Europe/London:20261114T120000
DTSTAMP:20260420T022125Z
UID:13020952026-11-14 10:00:00+00:00achurchnearyou
CATEGORIES:
DESCRIPTION:Every 2 months on the 2nd Saturday 10.00—12.00\nFREE tea\, c
 offee and delicious home-made fruit cake\nSecond-hand books: 50p each or 3
 -for-a-£\nCome along and browse our wide range of books or just pop in fo
 r a chat with friends old and new!
GEO:-2.791922;53.252287
LOCATION:St Luke's
URL:https://www.achurchnearyou.com/church/12598/service-and-events/events/
 1302095/
END:VEVENT
BEGIN:VEVENT
SUMMARY:Book Sale & Coffee Morning
DTSTART;TZID=Europe/London:20270109T100000
DTEND;TZID=Europe/London:20270109T120000
DTSTAMP:20260420T022125Z
UID:13020952027-01-09 10:00:00+00:00achurchnearyou
CATEGORIES:
DESCRIPTION:Every 2 months on the 2nd Saturday 10.00—12.00\nFREE tea\, c
 offee and delicious home-made fruit cake\nSecond-hand books: 50p each or 3
 -for-a-£\nCome along and browse our wide range of books or just pop in fo
 r a chat with friends old and new!
GEO:-2.791922;53.252287
LOCATION:St Luke's
URL:https://www.achurchnearyou.com/church/12598/service-and-events/events/
 1302095/
END:VEVENT
BEGIN:VEVENT
SUMMARY:Book Sale & Coffee Morning
DTSTART;TZID=Europe/London:20270313T100000
DTEND;TZID=Europe/London:20270313T120000
DTSTAMP:20260420T022125Z
UID:13020952027-03-13 10:00:00+00:00achurchnearyou
CATEGORIES:
DESCRIPTION:Every 2 months on the 2nd Saturday 10.00—12.00\nFREE tea\, c
 offee and delicious home-made fruit cake\nSecond-hand books: 50p each or 3
 -for-a-£\nCome along and browse our wide range of books or just pop in fo
 r a chat with friends old and new!
GEO:-2.791922;53.252287
LOCATION:St Luke's
URL:https://www.achurchnearyou.com/church/12598/service-and-events/events/
 1302095/
END:VEVENT
BEGIN:VEVENT
SUMMARY:Book Sale & Coffee Morning
DTSTART;TZID=Europe/London:20270508T100000
DTEND;TZID=Europe/London:20270508T120000
DTSTAMP:20260420T022125Z
UID:13020952027-05-08 10:00:00+01:00achurchnearyou
CATEGORIES:
DESCRIPTION:Every 2 months on the 2nd Saturday 10.00—12.00\nFREE tea\, c
 offee and delicious home-made fruit cake\nSecond-hand books: 50p each or 3
 -for-a-£\nCome along and browse our wide range of books or just pop in fo
 r a chat with friends old and new!
GEO:-2.791922;53.252287
LOCATION:St Luke's
URL:https://www.achurchnearyou.com/church/12598/service-and-events/events/
 1302095/
END:VEVENT
BEGIN:VEVENT
SUMMARY:Book Sale & Coffee Morning
DTSTART;TZID=Europe/London:20270710T100000
DTEND;TZID=Europe/London:20270710T120000
DTSTAMP:20260420T022125Z
UID:13020952027-07-10 10:00:00+01:00achurchnearyou
CATEGORIES:
DESCRIPTION:Every 2 months on the 2nd Saturday 10.00—12.00\nFREE tea\, c
 offee and delicious home-made fruit cake\nSecond-hand books: 50p each or 3
 -for-a-£\nCome along and browse our wide range of books or just pop in fo
 r a chat with friends old and new!
GEO:-2.791922;53.252287
LOCATION:St Luke's
URL:https://www.achurchnearyou.com/church/12598/service-and-events/events/
 1302095/
END:VEVENT
BEGIN:VEVENT
SUMMARY:Book Sale & Coffee Morning
DTSTART;TZID=Europe/London:20270911T100000
DTEND;TZID=Europe/London:20270911T120000
DTSTAMP:20260420T022125Z
UID:13020952027-09-11 10:00:00+01:00achurchnearyou
CATEGORIES:
DESCRIPTION:Every 2 months on the 2nd Saturday 10.00—12.00\nFREE tea\, c
 offee and delicious home-made fruit cake\nSecond-hand books: 50p each or 3
 -for-a-£\nCome along and browse our wide range of books or just pop in fo
 r a chat with friends old and new!
GEO:-2.791922;53.252287
LOCATION:St Luke's
URL:https://www.achurchnearyou.com/church/12598/service-and-events/events/
 1302095/
END:VEVENT
BEGIN:VEVENT
SUMMARY:Book Sale & Coffee Morning
DTSTART;TZID=Europe/London:20271113T100000
DTEND;TZID=Europe/London:20271113T120000
DTSTAMP:20260420T022125Z
UID:13020952027-11-13 10:00:00+00:00achurchnearyou
CATEGORIES:
DESCRIPTION:Every 2 months on the 2nd Saturday 10.00—12.00\nFREE tea\, c
 offee and delicious home-made fruit cake\nSecond-hand books: 50p each or 3
 -for-a-£\nCome along and browse our wide range of books or just pop in fo
 r a chat with friends old and new!
GEO:-2.791922;53.252287
LOCATION:St Luke's
URL:https://www.achurchnearyou.com/church/12598/service-and-events/events/
 1302095/
END:VEVENT
BEGIN:VEVENT
SUMMARY:Book Sale & Coffee Morning
DTSTART;TZID=Europe/London:20280108T100000
DTEND;TZID=Europe/London:20280108T120000
DTSTAMP:20260420T022125Z
UID:13020952028-01-08 10:00:00+00:00achurchnearyou
CATEGORIES:
DESCRIPTION:Every 2 months on the 2nd Saturday 10.00—12.00\nFREE tea\, c
 offee and delicious home-made fruit cake\nSecond-hand books: 50p each or 3
 -for-a-£\nCome along and browse our wide range of books or just pop in fo
 r a chat with friends old and new!
GEO:-2.791922;53.252287
LOCATION:St Luke's
URL:https://www.achurchnearyou.com/church/12598/service-and-events/events/
 1302095/
END:VEVENT
BEGIN:VEVENT
SUMMARY:Book Sale & Coffee Morning
DTSTART;TZID=Europe/London:20280311T100000
DTEND;TZID=Europe/London:20280311T120000
DTSTAMP:20260420T022125Z
UID:13020952028-03-11 10:00:00+00:00achurchnearyou
CATEGORIES:
DESCRIPTION:Every 2 months on the 2nd Saturday 10.00—12.00\nFREE tea\, c
 offee and delicious home-made fruit cake\nSecond-hand books: 50p each or 3
 -for-a-£\nCome along and browse our wide range of books or just pop in fo
 r a chat with friends old and new!
GEO:-2.791922;53.252287
LOCATION:St Luke's
URL:https://www.achurchnearyou.com/church/12598/service-and-events/events/
 1302095/
END:VEVENT
END:VCALENDAR
