BEGIN:VCALENDAR
VERSION:2.0
PRODID:-//achurchnearyou.com//eventfeed//EN
CALSCALE:GREGORIAN
METHOD:PUBLISH
X-WR-TIMEZONE:UTC
BEGIN:VEVENT
SUMMARY:GOOD FRIDAY EUCHARIST
DTSTART:20250418T083000Z
DTEND:20250418T093000Z
DTSTAMP:20260426T034835Z
UID:11796822025-04-18 08:30:00+00:00achurchnearyou
CATEGORIES:
DESCRIPTION:Good Friday 18th April 9:30am Little Leigh.\nYou are very welc
 ome to join us on this important day in our Churches calendar. \nThere is 
 also a 2pm service at Aston\, St Peters Church.
GEO:-2.577449;53.278868
LOCATION:St Michael & All Angels
URL:https://www.achurchnearyou.com/church/12631/service-and-events/events/
 1179682/
END:VEVENT
END:VCALENDAR
