BEGIN:VCALENDAR
VERSION:2.0
PRODID:-//achurchnearyou.com//eventfeed//EN
CALSCALE:GREGORIAN
METHOD:PUBLISH
X-WR-TIMEZONE:UTC
BEGIN:VEVENT
SUMMARY:'OLD MEANY' PLAY BY THE OTHER THEATRE COMPANY
DTSTART:20251129T190000Z
DTEND:20251129T220000Z
DTSTAMP:20260425T025135Z
UID:12456562025-11-29 19:00:00+00:00achurchnearyou
CATEGORIES:
DESCRIPTION:Old Meany is a new play written by Harry Kennedy based on Char
 les Dickens'  'A Christmas Carol' \nSaturday November 29th    7pm for 7:30
 pm start.\nEntrance £5 on door. Please bring your own nibbles and tipple.
 \nAll are welcome for some fun and good company. We would love you to join
  us.
LOCATION:Little Leigh Village Hall
URL:https://www.achurchnearyou.com/church/12631/service-and-events/events/
 1245656/
END:VEVENT
END:VCALENDAR
