BEGIN:VCALENDAR
VERSION:2.0
PRODID:-//achurchnearyou.com//eventfeed//EN
CALSCALE:GREGORIAN
METHOD:PUBLISH
X-WR-TIMEZONE:UTC
BEGIN:VEVENT
SUMMARY:Holy Communion
DTSTART:20260402T173000Z
DTEND:20260402T183000Z
DTSTAMP:20260420T232212Z
UID:13197482026-04-02 17:30:00+00:00achurchnearyou
CATEGORIES:
DESCRIPTION:Holy Communion service for Maundy Thursday
GEO:-2.571773;53.340422
LOCATION:St Matthew
URL:https://www.achurchnearyou.com/church/12635/service-and-events/events/
 1319748/
END:VEVENT
END:VCALENDAR
