BEGIN:VCALENDAR
VERSION:2.0
PRODID:-//achurchnearyou.com//eventfeed//EN
CALSCALE:GREGORIAN
METHOD:PUBLISH
X-WR-TIMEZONE:UTC
BEGIN:VEVENT
SUMMARY:Good Friday
DTSTART;TZID=Europe/London:20260403T100000
DTEND;TZID=Europe/London:20260403T110000
DTSTAMP:20260421T185231Z
UID:13187451775206800.0achurchnearyou
CATEGORIES:
DESCRIPTION:A mediative and reflective service for Good Friday
GEO:-2.73271;53.076972
LOCATION:Holy Trinity\, Bickerton
URL:https://www.achurchnearyou.com/church/12640/service-and-events/events/
 1318745/
END:VEVENT
BEGIN:VEVENT
SUMMARY:Parish Communion
DTSTART;TZID=Europe/London:20260405T093000
DTEND;TZID=Europe/London:20260405T103000
DTSTAMP:20260421T185231Z
UID:9385371775377800.0achurchnearyou
CATEGORIES:
DESCRIPTION:All our welcome to our regular weekly Parish Communion. A chil
 dren's corner is available and tea and coffee (with wonderful biscuits) is
  served after the service during a time of fellowship with our church fami
 ly.
GEO:-2.73271;53.076972
LOCATION:Holy Trinity\, Bickerton
URL:https://www.achurchnearyou.com/church/12640/service-and-events/events/
 938537/
END:VEVENT
BEGIN:VEVENT
SUMMARY:Bank Holiday pop up cafe
DTSTART;TZID=Europe/London:20260406T100000
DTEND;TZID=Europe/London:20260406T140000
DTSTAMP:20260421T185231Z
UID:13187441775466000.0achurchnearyou
CATEGORIES:
DESCRIPTION:Cafe\, games\, family fun
GEO:-2.73271;53.076972
LOCATION:Holy Trinity\, Bickerton
URL:https://www.achurchnearyou.com/church/12640/service-and-events/events/
 1318744/
END:VEVENT
BEGIN:VEVENT
SUMMARY:Parish Communion
DTSTART;TZID=Europe/London:20260412T093000
DTEND;TZID=Europe/London:20260412T103000
DTSTAMP:20260421T185231Z
UID:9385371775982600.0achurchnearyou
CATEGORIES:
DESCRIPTION:All our welcome to our regular weekly Parish Communion. A chil
 dren's corner is available and tea and coffee (with wonderful biscuits) is
  served after the service during a time of fellowship with our church fami
 ly.
GEO:-2.73271;53.076972
LOCATION:Holy Trinity\, Bickerton
URL:https://www.achurchnearyou.com/church/12640/service-and-events/events/
 938537/
END:VEVENT
BEGIN:VEVENT
SUMMARY:Parish Communion
DTSTART;TZID=Europe/London:20260419T093000
DTEND;TZID=Europe/London:20260419T103000
DTSTAMP:20260421T185231Z
UID:9385371776587400.0achurchnearyou
CATEGORIES:
DESCRIPTION:All our welcome to our regular weekly Parish Communion. A chil
 dren's corner is available and tea and coffee (with wonderful biscuits) is
  served after the service during a time of fellowship with our church fami
 ly.
GEO:-2.73271;53.076972
LOCATION:Holy Trinity\, Bickerton
URL:https://www.achurchnearyou.com/church/12640/service-and-events/events/
 938537/
END:VEVENT
BEGIN:VEVENT
SUMMARY:Parish Communion
DTSTART;TZID=Europe/London:20260426T093000
DTEND;TZID=Europe/London:20260426T103000
DTSTAMP:20260421T185231Z
UID:9385371777192200.0achurchnearyou
CATEGORIES:
DESCRIPTION:All our welcome to our regular weekly Parish Communion. A chil
 dren's corner is available and tea and coffee (with wonderful biscuits) is
  served after the service during a time of fellowship with our church fami
 ly.
GEO:-2.73271;53.076972
LOCATION:Holy Trinity\, Bickerton
URL:https://www.achurchnearyou.com/church/12640/service-and-events/events/
 938537/
END:VEVENT
BEGIN:VEVENT
SUMMARY:Parish Communion
DTSTART;TZID=Europe/London:20260503T093000
DTEND;TZID=Europe/London:20260503T103000
DTSTAMP:20260421T185231Z
UID:9385371777797000.0achurchnearyou
CATEGORIES:
DESCRIPTION:All our welcome to our regular weekly Parish Communion. A chil
 dren's corner is available and tea and coffee (with wonderful biscuits) is
  served after the service during a time of fellowship with our church fami
 ly.
GEO:-2.73271;53.076972
LOCATION:Holy Trinity\, Bickerton
URL:https://www.achurchnearyou.com/church/12640/service-and-events/events/
 938537/
END:VEVENT
BEGIN:VEVENT
SUMMARY:Parish Communion
DTSTART;TZID=Europe/London:20260510T093000
DTEND;TZID=Europe/London:20260510T103000
DTSTAMP:20260421T185231Z
UID:9385371778401800.0achurchnearyou
CATEGORIES:
DESCRIPTION:All our welcome to our regular weekly Parish Communion. A chil
 dren's corner is available and tea and coffee (with wonderful biscuits) is
  served after the service during a time of fellowship with our church fami
 ly.
GEO:-2.73271;53.076972
LOCATION:Holy Trinity\, Bickerton
URL:https://www.achurchnearyou.com/church/12640/service-and-events/events/
 938537/
END:VEVENT
BEGIN:VEVENT
SUMMARY:Parish Communion
DTSTART;TZID=Europe/London:20260517T093000
DTEND;TZID=Europe/London:20260517T103000
DTSTAMP:20260421T185231Z
UID:9385371779006600.0achurchnearyou
CATEGORIES:
DESCRIPTION:All our welcome to our regular weekly Parish Communion. A chil
 dren's corner is available and tea and coffee (with wonderful biscuits) is
  served after the service during a time of fellowship with our church fami
 ly.
GEO:-2.73271;53.076972
LOCATION:Holy Trinity\, Bickerton
URL:https://www.achurchnearyou.com/church/12640/service-and-events/events/
 938537/
END:VEVENT
BEGIN:VEVENT
SUMMARY:Parish Communion
DTSTART;TZID=Europe/London:20260524T093000
DTEND;TZID=Europe/London:20260524T103000
DTSTAMP:20260421T185231Z
UID:9385371779611400.0achurchnearyou
CATEGORIES:
DESCRIPTION:All our welcome to our regular weekly Parish Communion. A chil
 dren's corner is available and tea and coffee (with wonderful biscuits) is
  served after the service during a time of fellowship with our church fami
 ly.
GEO:-2.73271;53.076972
LOCATION:Holy Trinity\, Bickerton
URL:https://www.achurchnearyou.com/church/12640/service-and-events/events/
 938537/
END:VEVENT
BEGIN:VEVENT
SUMMARY:Parish Communion
DTSTART;TZID=Europe/London:20260531T093000
DTEND;TZID=Europe/London:20260531T103000
DTSTAMP:20260421T185231Z
UID:9385371780216200.0achurchnearyou
CATEGORIES:
DESCRIPTION:All our welcome to our regular weekly Parish Communion. A chil
 dren's corner is available and tea and coffee (with wonderful biscuits) is
  served after the service during a time of fellowship with our church fami
 ly.
GEO:-2.73271;53.076972
LOCATION:Holy Trinity\, Bickerton
URL:https://www.achurchnearyou.com/church/12640/service-and-events/events/
 938537/
END:VEVENT
BEGIN:VEVENT
SUMMARY:Parish Communion
DTSTART;TZID=Europe/London:20260607T093000
DTEND;TZID=Europe/London:20260607T103000
DTSTAMP:20260421T185231Z
UID:9385371780821000.0achurchnearyou
CATEGORIES:
DESCRIPTION:All our welcome to our regular weekly Parish Communion. A chil
 dren's corner is available and tea and coffee (with wonderful biscuits) is
  served after the service during a time of fellowship with our church fami
 ly.
GEO:-2.73271;53.076972
LOCATION:Holy Trinity\, Bickerton
URL:https://www.achurchnearyou.com/church/12640/service-and-events/events/
 938537/
END:VEVENT
BEGIN:VEVENT
SUMMARY:Parish Communion
DTSTART;TZID=Europe/London:20260614T093000
DTEND;TZID=Europe/London:20260614T103000
DTSTAMP:20260421T185231Z
UID:9385371781425800.0achurchnearyou
CATEGORIES:
DESCRIPTION:All our welcome to our regular weekly Parish Communion. A chil
 dren's corner is available and tea and coffee (with wonderful biscuits) is
  served after the service during a time of fellowship with our church fami
 ly.
GEO:-2.73271;53.076972
LOCATION:Holy Trinity\, Bickerton
URL:https://www.achurchnearyou.com/church/12640/service-and-events/events/
 938537/
END:VEVENT
BEGIN:VEVENT
SUMMARY:Parish Communion
DTSTART;TZID=Europe/London:20260621T093000
DTEND;TZID=Europe/London:20260621T103000
DTSTAMP:20260421T185231Z
UID:9385371782030600.0achurchnearyou
CATEGORIES:
DESCRIPTION:All our welcome to our regular weekly Parish Communion. A chil
 dren's corner is available and tea and coffee (with wonderful biscuits) is
  served after the service during a time of fellowship with our church fami
 ly.
GEO:-2.73271;53.076972
LOCATION:Holy Trinity\, Bickerton
URL:https://www.achurchnearyou.com/church/12640/service-and-events/events/
 938537/
END:VEVENT
BEGIN:VEVENT
SUMMARY:Parish Communion
DTSTART;TZID=Europe/London:20260628T093000
DTEND;TZID=Europe/London:20260628T103000
DTSTAMP:20260421T185231Z
UID:9385371782635400.0achurchnearyou
CATEGORIES:
DESCRIPTION:All our welcome to our regular weekly Parish Communion. A chil
 dren's corner is available and tea and coffee (with wonderful biscuits) is
  served after the service during a time of fellowship with our church fami
 ly.
GEO:-2.73271;53.076972
LOCATION:Holy Trinity\, Bickerton
URL:https://www.achurchnearyou.com/church/12640/service-and-events/events/
 938537/
END:VEVENT
BEGIN:VEVENT
SUMMARY:Parish Communion
DTSTART;TZID=Europe/London:20260705T093000
DTEND;TZID=Europe/London:20260705T103000
DTSTAMP:20260421T185231Z
UID:9385371783240200.0achurchnearyou
CATEGORIES:
DESCRIPTION:All our welcome to our regular weekly Parish Communion. A chil
 dren's corner is available and tea and coffee (with wonderful biscuits) is
  served after the service during a time of fellowship with our church fami
 ly.
GEO:-2.73271;53.076972
LOCATION:Holy Trinity\, Bickerton
URL:https://www.achurchnearyou.com/church/12640/service-and-events/events/
 938537/
END:VEVENT
BEGIN:VEVENT
SUMMARY:Parish Communion
DTSTART;TZID=Europe/London:20260712T093000
DTEND;TZID=Europe/London:20260712T103000
DTSTAMP:20260421T185231Z
UID:9385371783845000.0achurchnearyou
CATEGORIES:
DESCRIPTION:All our welcome to our regular weekly Parish Communion. A chil
 dren's corner is available and tea and coffee (with wonderful biscuits) is
  served after the service during a time of fellowship with our church fami
 ly.
GEO:-2.73271;53.076972
LOCATION:Holy Trinity\, Bickerton
URL:https://www.achurchnearyou.com/church/12640/service-and-events/events/
 938537/
END:VEVENT
BEGIN:VEVENT
SUMMARY:Parish Communion
DTSTART;TZID=Europe/London:20260719T093000
DTEND;TZID=Europe/London:20260719T103000
DTSTAMP:20260421T185231Z
UID:9385371784449800.0achurchnearyou
CATEGORIES:
DESCRIPTION:All our welcome to our regular weekly Parish Communion. A chil
 dren's corner is available and tea and coffee (with wonderful biscuits) is
  served after the service during a time of fellowship with our church fami
 ly.
GEO:-2.73271;53.076972
LOCATION:Holy Trinity\, Bickerton
URL:https://www.achurchnearyou.com/church/12640/service-and-events/events/
 938537/
END:VEVENT
BEGIN:VEVENT
SUMMARY:Parish Communion
DTSTART;TZID=Europe/London:20260726T093000
DTEND;TZID=Europe/London:20260726T103000
DTSTAMP:20260421T185231Z
UID:9385371785054600.0achurchnearyou
CATEGORIES:
DESCRIPTION:All our welcome to our regular weekly Parish Communion. A chil
 dren's corner is available and tea and coffee (with wonderful biscuits) is
  served after the service during a time of fellowship with our church fami
 ly.
GEO:-2.73271;53.076972
LOCATION:Holy Trinity\, Bickerton
URL:https://www.achurchnearyou.com/church/12640/service-and-events/events/
 938537/
END:VEVENT
BEGIN:VEVENT
SUMMARY:Parish Communion
DTSTART;TZID=Europe/London:20260802T093000
DTEND;TZID=Europe/London:20260802T103000
DTSTAMP:20260421T185231Z
UID:9385371785659400.0achurchnearyou
CATEGORIES:
DESCRIPTION:All our welcome to our regular weekly Parish Communion. A chil
 dren's corner is available and tea and coffee (with wonderful biscuits) is
  served after the service during a time of fellowship with our church fami
 ly.
GEO:-2.73271;53.076972
LOCATION:Holy Trinity\, Bickerton
URL:https://www.achurchnearyou.com/church/12640/service-and-events/events/
 938537/
END:VEVENT
BEGIN:VEVENT
SUMMARY:Parish Communion
DTSTART;TZID=Europe/London:20260809T093000
DTEND;TZID=Europe/London:20260809T103000
DTSTAMP:20260421T185231Z
UID:9385371786264200.0achurchnearyou
CATEGORIES:
DESCRIPTION:All our welcome to our regular weekly Parish Communion. A chil
 dren's corner is available and tea and coffee (with wonderful biscuits) is
  served after the service during a time of fellowship with our church fami
 ly.
GEO:-2.73271;53.076972
LOCATION:Holy Trinity\, Bickerton
URL:https://www.achurchnearyou.com/church/12640/service-and-events/events/
 938537/
END:VEVENT
BEGIN:VEVENT
SUMMARY:Parish Communion
DTSTART;TZID=Europe/London:20260816T093000
DTEND;TZID=Europe/London:20260816T103000
DTSTAMP:20260421T185231Z
UID:9385371786869000.0achurchnearyou
CATEGORIES:
DESCRIPTION:All our welcome to our regular weekly Parish Communion. A chil
 dren's corner is available and tea and coffee (with wonderful biscuits) is
  served after the service during a time of fellowship with our church fami
 ly.
GEO:-2.73271;53.076972
LOCATION:Holy Trinity\, Bickerton
URL:https://www.achurchnearyou.com/church/12640/service-and-events/events/
 938537/
END:VEVENT
BEGIN:VEVENT
SUMMARY:Parish Communion
DTSTART;TZID=Europe/London:20260823T093000
DTEND;TZID=Europe/London:20260823T103000
DTSTAMP:20260421T185231Z
UID:9385371787473800.0achurchnearyou
CATEGORIES:
DESCRIPTION:All our welcome to our regular weekly Parish Communion. A chil
 dren's corner is available and tea and coffee (with wonderful biscuits) is
  served after the service during a time of fellowship with our church fami
 ly.
GEO:-2.73271;53.076972
LOCATION:Holy Trinity\, Bickerton
URL:https://www.achurchnearyou.com/church/12640/service-and-events/events/
 938537/
END:VEVENT
BEGIN:VEVENT
SUMMARY:Parish Communion
DTSTART;TZID=Europe/London:20260830T093000
DTEND;TZID=Europe/London:20260830T103000
DTSTAMP:20260421T185231Z
UID:9385371788078600.0achurchnearyou
CATEGORIES:
DESCRIPTION:All our welcome to our regular weekly Parish Communion. A chil
 dren's corner is available and tea and coffee (with wonderful biscuits) is
  served after the service during a time of fellowship with our church fami
 ly.
GEO:-2.73271;53.076972
LOCATION:Holy Trinity\, Bickerton
URL:https://www.achurchnearyou.com/church/12640/service-and-events/events/
 938537/
END:VEVENT
BEGIN:VEVENT
SUMMARY:Parish Communion
DTSTART;TZID=Europe/London:20260906T093000
DTEND;TZID=Europe/London:20260906T103000
DTSTAMP:20260421T185231Z
UID:9385371788683400.0achurchnearyou
CATEGORIES:
DESCRIPTION:All our welcome to our regular weekly Parish Communion. A chil
 dren's corner is available and tea and coffee (with wonderful biscuits) is
  served after the service during a time of fellowship with our church fami
 ly.
GEO:-2.73271;53.076972
LOCATION:Holy Trinity\, Bickerton
URL:https://www.achurchnearyou.com/church/12640/service-and-events/events/
 938537/
END:VEVENT
BEGIN:VEVENT
SUMMARY:Parish Communion
DTSTART;TZID=Europe/London:20260913T093000
DTEND;TZID=Europe/London:20260913T103000
DTSTAMP:20260421T185231Z
UID:9385371789288200.0achurchnearyou
CATEGORIES:
DESCRIPTION:All our welcome to our regular weekly Parish Communion. A chil
 dren's corner is available and tea and coffee (with wonderful biscuits) is
  served after the service during a time of fellowship with our church fami
 ly.
GEO:-2.73271;53.076972
LOCATION:Holy Trinity\, Bickerton
URL:https://www.achurchnearyou.com/church/12640/service-and-events/events/
 938537/
END:VEVENT
BEGIN:VEVENT
SUMMARY:Parish Communion
DTSTART;TZID=Europe/London:20260920T093000
DTEND;TZID=Europe/London:20260920T103000
DTSTAMP:20260421T185231Z
UID:9385371789893000.0achurchnearyou
CATEGORIES:
DESCRIPTION:All our welcome to our regular weekly Parish Communion. A chil
 dren's corner is available and tea and coffee (with wonderful biscuits) is
  served after the service during a time of fellowship with our church fami
 ly.
GEO:-2.73271;53.076972
LOCATION:Holy Trinity\, Bickerton
URL:https://www.achurchnearyou.com/church/12640/service-and-events/events/
 938537/
END:VEVENT
BEGIN:VEVENT
SUMMARY:Parish Communion
DTSTART;TZID=Europe/London:20260927T093000
DTEND;TZID=Europe/London:20260927T103000
DTSTAMP:20260421T185231Z
UID:9385371790497800.0achurchnearyou
CATEGORIES:
DESCRIPTION:All our welcome to our regular weekly Parish Communion. A chil
 dren's corner is available and tea and coffee (with wonderful biscuits) is
  served after the service during a time of fellowship with our church fami
 ly.
GEO:-2.73271;53.076972
LOCATION:Holy Trinity\, Bickerton
URL:https://www.achurchnearyou.com/church/12640/service-and-events/events/
 938537/
END:VEVENT
END:VCALENDAR
