BEGIN:VCALENDAR
VERSION:2.0
PRODID:-//achurchnearyou.com//eventfeed//EN
CALSCALE:GREGORIAN
METHOD:PUBLISH
X-WR-TIMEZONE:UTC
BEGIN:VEVENT
SUMMARY:All Souls Joint Service with St. Chads at 4.30pm
DTSTART:20251102T163000Z
DTEND:20251102T173000Z
DTSTAMP:20260422T151104Z
UID:12264052025-11-02 16:30:00+00:00achurchnearyou
CATEGORIES:
DESCRIPTION:Please note this service is 4.30pm
GEO:-2.692266;53.036403
LOCATION:St Wenefrede's\,Bickley
URL:https://www.achurchnearyou.com/church/12641/service-and-events/events/
 1226405/
END:VEVENT
END:VCALENDAR
