BEGIN:VCALENDAR
VERSION:2.0
PRODID:-//achurchnearyou.com//eventfeed//EN
CALSCALE:GREGORIAN
METHOD:PUBLISH
X-WR-TIMEZONE:UTC
BEGIN:VEVENT
SUMMARY:Holy Communion
DTSTART:20260118T110000Z
DTEND:20260118T120000Z
DTSTAMP:20260422T095623Z
UID:12763442026-01-18 11:00:00+00:00achurchnearyou
CATEGORIES:
DESCRIPTION:Followed by coffee and a PCC meeting
GEO:-2.692266;53.036403
LOCATION:St Wenefrede's\,Bickley
URL:https://www.achurchnearyou.com/church/12641/service-and-events/events/
 1276344/
END:VEVENT
END:VCALENDAR
