BEGIN:VCALENDAR
VERSION:2.0
PRODID:-//achurchnearyou.com//eventfeed//EN
CALSCALE:GREGORIAN
METHOD:PUBLISH
X-WR-TIMEZONE:UTC
BEGIN:VEVENT
SUMMARY:Morning Prayer
DTSTART:20260208T110000Z
DTEND:20260208T120000Z
DTSTAMP:20260422T075259Z
UID:12845022026-02-08 11:00:00+00:00achurchnearyou
CATEGORIES:
DESCRIPTION:Followed by coffee
GEO:-2.692266;53.036403
LOCATION:St Wenefrede's\,Bickley
URL:https://www.achurchnearyou.com/church/12641/service-and-events/events/
 1284502/
END:VEVENT
END:VCALENDAR
