BEGIN:VCALENDAR
VERSION:2.0
PRODID:-//achurchnearyou.com//eventfeed//EN
CALSCALE:GREGORIAN
METHOD:PUBLISH
X-WR-TIMEZONE:UTC
BEGIN:VEVENT
SUMMARY:Evening Prayer
DTSTART:20260322T160000Z
DTEND:20260322T170000Z
DTSTAMP:20260422T055623Z
UID:12850842026-03-22 16:00:00+00:00achurchnearyou
CATEGORIES:
DESCRIPTION:A service of Evening Prayer
LOCATION:St Nicholas Chapel
URL:https://www.achurchnearyou.com/church/12641/service-and-events/events/
 1285084/
END:VEVENT
END:VCALENDAR
