BEGIN:VCALENDAR
VERSION:2.0
PRODID:-//achurchnearyou.com//eventfeed//EN
CALSCALE:GREGORIAN
METHOD:PUBLISH
X-WR-TIMEZONE:UTC
BEGIN:VEVENT
SUMMARY:Rogation Day Service
DTSTART:20260510T100000Z
DTEND:20260510T110000Z
DTSTAMP:20260421T234624Z
UID:13125432026-05-10 10:00:00+00:00achurchnearyou
CATEGORIES:
DESCRIPTION:This service is at the Coronation Hall\, followed by a Bring a
 nd Share lunch.
LOCATION:Coronation Hall
URL:https://www.achurchnearyou.com/church/12641/service-and-events/events/
 1312543/
END:VEVENT
END:VCALENDAR
