BEGIN:VCALENDAR
VERSION:2.0
PRODID:-//achurchnearyou.com//eventfeed//EN
CALSCALE:GREGORIAN
METHOD:PUBLISH
X-WR-TIMEZONE:UTC
BEGIN:VEVENT
SUMMARY:APCM
DTSTART:20260429T183000Z
DTEND:20260429T193000Z
DTSTAMP:20260421T155159Z
UID:12874152026-04-29 18:30:00+00:00achurchnearyou
CATEGORIES:
DESCRIPTION:Annual Parochial Church Meeting to elect church officers
GEO:-2.849005;53.045866
LOCATION:St Edith
URL:https://www.achurchnearyou.com/church/12654/service-and-events/events/
 1287415/
END:VEVENT
END:VCALENDAR
