BEGIN:VCALENDAR
VERSION:2.0
PRODID:-//achurchnearyou.com//eventfeed//EN
CALSCALE:GREGORIAN
METHOD:PUBLISH
X-WR-TIMEZONE:UTC
BEGIN:VEVENT
SUMMARY:Communion for Easter day
DTSTART:20260405T080000Z
DTEND:20260405T090000Z
DTSTAMP:20260422T135750Z
UID:13094582026-04-05 08:00:00+00:00achurchnearyou
CATEGORIES:
DESCRIPTION:A communion service celebrating Jesus' resurrection
GEO:-2.639835;53.165685
LOCATION:St Thomas
URL:https://www.achurchnearyou.com/church/12657/service-and-events/events/
 1309458/
END:VEVENT
END:VCALENDAR
