BEGIN:VCALENDAR
VERSION:2.0
PRODID:-//achurchnearyou.com//eventfeed//EN
CALSCALE:GREGORIAN
METHOD:PUBLISH
X-WR-TIMEZONE:UTC
BEGIN:VEVENT
SUMMARY:Afternoon Tea
DTSTART;TZID=Europe/London:20250718T140000
DTEND;TZID=Europe/London:20250718T160000
DTSTAMP:20260424T163410Z
UID:12058342025-07-18 14:00:00+01:00achurchnearyou
CATEGORIES:
DESCRIPTION:Join us for afternoon tea on July 19th\, in the church hall.
GEO:-2.463679;53.269339
LOCATION:St John the Evangelist
URL:https://www.achurchnearyou.com/church/12669/service-and-events/events/
 1205834/
END:VEVENT
END:VCALENDAR
