BEGIN:VCALENDAR
VERSION:2.0
PRODID:-//achurchnearyou.com//eventfeed//EN
CALSCALE:GREGORIAN
METHOD:PUBLISH
X-WR-TIMEZONE:UTC
BEGIN:VEVENT
SUMMARY:Carol Service
DTSTART:20251218T070000Z
DTEND:20251218T190000Z
DTSTAMP:20260424T001836Z
UID:12575342025-12-18 07:00:00+00:00achurchnearyou
CATEGORIES:
DESCRIPTION:A Festival Service of Carols and Readings
LOCATION:All Saints' Church Lach Dennis
URL:https://www.achurchnearyou.com/church/12670/service-and-events/events/
 1257534/
END:VEVENT
END:VCALENDAR
