BEGIN:VCALENDAR
VERSION:2.0
PRODID:-//achurchnearyou.com//eventfeed//EN
CALSCALE:GREGORIAN
METHOD:PUBLISH
X-WR-TIMEZONE:UTC
BEGIN:VEVENT
SUMMARY:PALM SUNDAY
DTSTART:20250413T101500Z
DTEND:20250413T113000Z
DTSTAMP:20260422T052250Z
UID:11857932025-04-13 10:15:00+00:00achurchnearyou
CATEGORIES:
DESCRIPTION:Palm Sunday Eucharist \nBlessing of Palms and Passion Gospel R
 eading
GEO:-2.518787;53.257752
LOCATION:Holy Trinity Church\, Castle\, Northwich
URL:https://www.achurchnearyou.com/church/12674/service-and-events/events/
 1185793/
END:VEVENT
END:VCALENDAR
