BEGIN:VCALENDAR
VERSION:2.0
PRODID:-//achurchnearyou.com//eventfeed//EN
CALSCALE:GREGORIAN
METHOD:PUBLISH
X-WR-TIMEZONE:UTC
BEGIN:VEVENT
SUMMARY:All Souls day Service
DTSTART:20251102T180000Z
DTEND:20251102T190000Z
DTSTAMP:20260421T154345Z
UID:12261422025-11-02 18:00:00+00:00achurchnearyou
CATEGORIES:
DESCRIPTION:Come and join us as we remember in love those who have died - 
 a quiet\, meditative service with flowers and candles - followed by light 
 refreshments
GEO:-2.518787;53.257752
LOCATION:Holy Trinity Church\, Castle\, Northwich
URL:https://www.achurchnearyou.com/church/12674/service-and-events/events/
 1226142/
END:VEVENT
END:VCALENDAR
