BEGIN:VCALENDAR
VERSION:2.0
PRODID:-//achurchnearyou.com//eventfeed//EN
CALSCALE:GREGORIAN
METHOD:PUBLISH
X-WR-TIMEZONE:UTC
BEGIN:VEVENT
SUMMARY:Holy Communion
DTSTART;TZID=Europe/London:20260426T183000
DTEND;TZID=Europe/London:20260426T191500
DTSTAMP:20260423T222217Z
UID:2647582026-04-26 18:30:00+01:00achurchnearyou
CATEGORIES:
DESCRIPTION:A service of Holy Communion using liturgy from the Iona Commun
 ity\, including music led by St John's Choir.
GEO:-2.591829;53.235581
LOCATION:St John's Sandiway
URL:https://www.achurchnearyou.com/church/12677/service-and-events/events/
 264758/
END:VEVENT
BEGIN:VEVENT
SUMMARY:Holy Communion
DTSTART;TZID=Europe/London:20260510T183000
DTEND;TZID=Europe/London:20260510T191500
DTSTAMP:20260423T222217Z
UID:2647582026-05-10 18:30:00+01:00achurchnearyou
CATEGORIES:
DESCRIPTION:A service of Holy Communion using liturgy from the Iona Commun
 ity\, including music led by St John's Choir.
GEO:-2.591829;53.235581
LOCATION:St John's Sandiway
URL:https://www.achurchnearyou.com/church/12677/service-and-events/events/
 264758/
END:VEVENT
BEGIN:VEVENT
SUMMARY:Holy Communion
DTSTART;TZID=Europe/London:20260524T183000
DTEND;TZID=Europe/London:20260524T191500
DTSTAMP:20260423T222217Z
UID:2647582026-05-24 18:30:00+01:00achurchnearyou
CATEGORIES:
DESCRIPTION:A service of Holy Communion using liturgy from the Iona Commun
 ity\, including music led by St John's Choir.
GEO:-2.591829;53.235581
LOCATION:St John's Sandiway
URL:https://www.achurchnearyou.com/church/12677/service-and-events/events/
 264758/
END:VEVENT
BEGIN:VEVENT
SUMMARY:Holy Communion
DTSTART;TZID=Europe/London:20260614T183000
DTEND;TZID=Europe/London:20260614T191500
DTSTAMP:20260423T222217Z
UID:2647582026-06-14 18:30:00+01:00achurchnearyou
CATEGORIES:
DESCRIPTION:A service of Holy Communion using liturgy from the Iona Commun
 ity\, including music led by St John's Choir.
GEO:-2.591829;53.235581
LOCATION:St John's Sandiway
URL:https://www.achurchnearyou.com/church/12677/service-and-events/events/
 264758/
END:VEVENT
BEGIN:VEVENT
SUMMARY:Holy Communion
DTSTART;TZID=Europe/London:20260628T183000
DTEND;TZID=Europe/London:20260628T191500
DTSTAMP:20260423T222217Z
UID:2647582026-06-28 18:30:00+01:00achurchnearyou
CATEGORIES:
DESCRIPTION:A service of Holy Communion using liturgy from the Iona Commun
 ity\, including music led by St John's Choir.
GEO:-2.591829;53.235581
LOCATION:St John's Sandiway
URL:https://www.achurchnearyou.com/church/12677/service-and-events/events/
 264758/
END:VEVENT
BEGIN:VEVENT
SUMMARY:Holy Communion
DTSTART;TZID=Europe/London:20260712T183000
DTEND;TZID=Europe/London:20260712T191500
DTSTAMP:20260423T222217Z
UID:2647582026-07-12 18:30:00+01:00achurchnearyou
CATEGORIES:
DESCRIPTION:A service of Holy Communion using liturgy from the Iona Commun
 ity\, including music led by St John's Choir.
GEO:-2.591829;53.235581
LOCATION:St John's Sandiway
URL:https://www.achurchnearyou.com/church/12677/service-and-events/events/
 264758/
END:VEVENT
BEGIN:VEVENT
SUMMARY:Holy Communion
DTSTART;TZID=Europe/London:20260726T183000
DTEND;TZID=Europe/London:20260726T191500
DTSTAMP:20260423T222217Z
UID:2647582026-07-26 18:30:00+01:00achurchnearyou
CATEGORIES:
DESCRIPTION:A service of Holy Communion using liturgy from the Iona Commun
 ity\, including music led by St John's Choir.
GEO:-2.591829;53.235581
LOCATION:St John's Sandiway
URL:https://www.achurchnearyou.com/church/12677/service-and-events/events/
 264758/
END:VEVENT
BEGIN:VEVENT
SUMMARY:Holy Communion
DTSTART;TZID=Europe/London:20260809T183000
DTEND;TZID=Europe/London:20260809T191500
DTSTAMP:20260423T222217Z
UID:2647582026-08-09 18:30:00+01:00achurchnearyou
CATEGORIES:
DESCRIPTION:A service of Holy Communion using liturgy from the Iona Commun
 ity\, including music led by St John's Choir.
GEO:-2.591829;53.235581
LOCATION:St John's Sandiway
URL:https://www.achurchnearyou.com/church/12677/service-and-events/events/
 264758/
END:VEVENT
BEGIN:VEVENT
SUMMARY:Holy Communion
DTSTART;TZID=Europe/London:20260823T183000
DTEND;TZID=Europe/London:20260823T191500
DTSTAMP:20260423T222217Z
UID:2647582026-08-23 18:30:00+01:00achurchnearyou
CATEGORIES:
DESCRIPTION:A service of Holy Communion using liturgy from the Iona Commun
 ity\, including music led by St John's Choir.
GEO:-2.591829;53.235581
LOCATION:St John's Sandiway
URL:https://www.achurchnearyou.com/church/12677/service-and-events/events/
 264758/
END:VEVENT
BEGIN:VEVENT
SUMMARY:Holy Communion
DTSTART;TZID=Europe/London:20260913T183000
DTEND;TZID=Europe/London:20260913T191500
DTSTAMP:20260423T222217Z
UID:2647582026-09-13 18:30:00+01:00achurchnearyou
CATEGORIES:
DESCRIPTION:A service of Holy Communion using liturgy from the Iona Commun
 ity\, including music led by St John's Choir.
GEO:-2.591829;53.235581
LOCATION:St John's Sandiway
URL:https://www.achurchnearyou.com/church/12677/service-and-events/events/
 264758/
END:VEVENT
BEGIN:VEVENT
SUMMARY:Holy Communion
DTSTART;TZID=Europe/London:20260927T183000
DTEND;TZID=Europe/London:20260927T191500
DTSTAMP:20260423T222217Z
UID:2647582026-09-27 18:30:00+01:00achurchnearyou
CATEGORIES:
DESCRIPTION:A service of Holy Communion using liturgy from the Iona Commun
 ity\, including music led by St John's Choir.
GEO:-2.591829;53.235581
LOCATION:St John's Sandiway
URL:https://www.achurchnearyou.com/church/12677/service-and-events/events/
 264758/
END:VEVENT
BEGIN:VEVENT
SUMMARY:Holy Communion
DTSTART;TZID=Europe/London:20261011T183000
DTEND;TZID=Europe/London:20261011T191500
DTSTAMP:20260423T222217Z
UID:2647582026-10-11 18:30:00+01:00achurchnearyou
CATEGORIES:
DESCRIPTION:A service of Holy Communion using liturgy from the Iona Commun
 ity\, including music led by St John's Choir.
GEO:-2.591829;53.235581
LOCATION:St John's Sandiway
URL:https://www.achurchnearyou.com/church/12677/service-and-events/events/
 264758/
END:VEVENT
BEGIN:VEVENT
SUMMARY:Holy Communion
DTSTART;TZID=Europe/London:20261025T183000
DTEND;TZID=Europe/London:20261025T191500
DTSTAMP:20260423T222217Z
UID:2647582026-10-25 18:30:00+00:00achurchnearyou
CATEGORIES:
DESCRIPTION:A service of Holy Communion using liturgy from the Iona Commun
 ity\, including music led by St John's Choir.
GEO:-2.591829;53.235581
LOCATION:St John's Sandiway
URL:https://www.achurchnearyou.com/church/12677/service-and-events/events/
 264758/
END:VEVENT
BEGIN:VEVENT
SUMMARY:Holy Communion
DTSTART;TZID=Europe/London:20261108T183000
DTEND;TZID=Europe/London:20261108T191500
DTSTAMP:20260423T222217Z
UID:2647582026-11-08 18:30:00+00:00achurchnearyou
CATEGORIES:
DESCRIPTION:A service of Holy Communion using liturgy from the Iona Commun
 ity\, including music led by St John's Choir.
GEO:-2.591829;53.235581
LOCATION:St John's Sandiway
URL:https://www.achurchnearyou.com/church/12677/service-and-events/events/
 264758/
END:VEVENT
BEGIN:VEVENT
SUMMARY:Holy Communion
DTSTART;TZID=Europe/London:20261122T183000
DTEND;TZID=Europe/London:20261122T191500
DTSTAMP:20260423T222217Z
UID:2647582026-11-22 18:30:00+00:00achurchnearyou
CATEGORIES:
DESCRIPTION:A service of Holy Communion using liturgy from the Iona Commun
 ity\, including music led by St John's Choir.
GEO:-2.591829;53.235581
LOCATION:St John's Sandiway
URL:https://www.achurchnearyou.com/church/12677/service-and-events/events/
 264758/
END:VEVENT
BEGIN:VEVENT
SUMMARY:Holy Communion
DTSTART;TZID=Europe/London:20261213T183000
DTEND;TZID=Europe/London:20261213T191500
DTSTAMP:20260423T222217Z
UID:2647582026-12-13 18:30:00+00:00achurchnearyou
CATEGORIES:
DESCRIPTION:A service of Holy Communion using liturgy from the Iona Commun
 ity\, including music led by St John's Choir.
GEO:-2.591829;53.235581
LOCATION:St John's Sandiway
URL:https://www.achurchnearyou.com/church/12677/service-and-events/events/
 264758/
END:VEVENT
BEGIN:VEVENT
SUMMARY:Holy Communion
DTSTART;TZID=Europe/London:20261227T183000
DTEND;TZID=Europe/London:20261227T191500
DTSTAMP:20260423T222217Z
UID:2647582026-12-27 18:30:00+00:00achurchnearyou
CATEGORIES:
DESCRIPTION:A service of Holy Communion using liturgy from the Iona Commun
 ity\, including music led by St John's Choir.
GEO:-2.591829;53.235581
LOCATION:St John's Sandiway
URL:https://www.achurchnearyou.com/church/12677/service-and-events/events/
 264758/
END:VEVENT
BEGIN:VEVENT
SUMMARY:Holy Communion
DTSTART;TZID=Europe/London:20270110T183000
DTEND;TZID=Europe/London:20270110T191500
DTSTAMP:20260423T222217Z
UID:2647582027-01-10 18:30:00+00:00achurchnearyou
CATEGORIES:
DESCRIPTION:A service of Holy Communion using liturgy from the Iona Commun
 ity\, including music led by St John's Choir.
GEO:-2.591829;53.235581
LOCATION:St John's Sandiway
URL:https://www.achurchnearyou.com/church/12677/service-and-events/events/
 264758/
END:VEVENT
BEGIN:VEVENT
SUMMARY:Holy Communion
DTSTART;TZID=Europe/London:20270124T183000
DTEND;TZID=Europe/London:20270124T191500
DTSTAMP:20260423T222217Z
UID:2647582027-01-24 18:30:00+00:00achurchnearyou
CATEGORIES:
DESCRIPTION:A service of Holy Communion using liturgy from the Iona Commun
 ity\, including music led by St John's Choir.
GEO:-2.591829;53.235581
LOCATION:St John's Sandiway
URL:https://www.achurchnearyou.com/church/12677/service-and-events/events/
 264758/
END:VEVENT
BEGIN:VEVENT
SUMMARY:Holy Communion
DTSTART;TZID=Europe/London:20270214T183000
DTEND;TZID=Europe/London:20270214T191500
DTSTAMP:20260423T222217Z
UID:2647582027-02-14 18:30:00+00:00achurchnearyou
CATEGORIES:
DESCRIPTION:A service of Holy Communion using liturgy from the Iona Commun
 ity\, including music led by St John's Choir.
GEO:-2.591829;53.235581
LOCATION:St John's Sandiway
URL:https://www.achurchnearyou.com/church/12677/service-and-events/events/
 264758/
END:VEVENT
BEGIN:VEVENT
SUMMARY:Holy Communion
DTSTART;TZID=Europe/London:20270228T183000
DTEND;TZID=Europe/London:20270228T191500
DTSTAMP:20260423T222217Z
UID:2647582027-02-28 18:30:00+00:00achurchnearyou
CATEGORIES:
DESCRIPTION:A service of Holy Communion using liturgy from the Iona Commun
 ity\, including music led by St John's Choir.
GEO:-2.591829;53.235581
LOCATION:St John's Sandiway
URL:https://www.achurchnearyou.com/church/12677/service-and-events/events/
 264758/
END:VEVENT
BEGIN:VEVENT
SUMMARY:Holy Communion
DTSTART;TZID=Europe/London:20270314T183000
DTEND;TZID=Europe/London:20270314T191500
DTSTAMP:20260423T222217Z
UID:2647582027-03-14 18:30:00+00:00achurchnearyou
CATEGORIES:
DESCRIPTION:A service of Holy Communion using liturgy from the Iona Commun
 ity\, including music led by St John's Choir.
GEO:-2.591829;53.235581
LOCATION:St John's Sandiway
URL:https://www.achurchnearyou.com/church/12677/service-and-events/events/
 264758/
END:VEVENT
BEGIN:VEVENT
SUMMARY:Holy Communion
DTSTART;TZID=Europe/London:20270328T183000
DTEND;TZID=Europe/London:20270328T191500
DTSTAMP:20260423T222217Z
UID:2647582027-03-28 18:30:00+01:00achurchnearyou
CATEGORIES:
DESCRIPTION:A service of Holy Communion using liturgy from the Iona Commun
 ity\, including music led by St John's Choir.
GEO:-2.591829;53.235581
LOCATION:St John's Sandiway
URL:https://www.achurchnearyou.com/church/12677/service-and-events/events/
 264758/
END:VEVENT
BEGIN:VEVENT
SUMMARY:Holy Communion
DTSTART;TZID=Europe/London:20270411T183000
DTEND;TZID=Europe/London:20270411T191500
DTSTAMP:20260423T222217Z
UID:2647582027-04-11 18:30:00+01:00achurchnearyou
CATEGORIES:
DESCRIPTION:A service of Holy Communion using liturgy from the Iona Commun
 ity\, including music led by St John's Choir.
GEO:-2.591829;53.235581
LOCATION:St John's Sandiway
URL:https://www.achurchnearyou.com/church/12677/service-and-events/events/
 264758/
END:VEVENT
END:VCALENDAR
