BEGIN:VCALENDAR
VERSION:2.0
PRODID:-//achurchnearyou.com//eventfeed//EN
CALSCALE:GREGORIAN
METHOD:PUBLISH
X-WR-TIMEZONE:UTC
BEGIN:VEVENT
SUMMARY:Christingle
DTSTART:20251221T160000Z
DTEND:20251221T164500Z
DTSTAMP:20260424T013348Z
UID:12714992025-12-21 16:00:00+00:00achurchnearyou
CATEGORIES:
DESCRIPTION:With Olie the orange
GEO:-3.025274;53.358633
LOCATION:Christ Church
URL:https://www.achurchnearyou.com/church/12695/service-and-events/events/
 1271499/
END:VEVENT
END:VCALENDAR
