BEGIN:VCALENDAR
VERSION:2.0
PRODID:-//achurchnearyou.com//eventfeed//EN
CALSCALE:GREGORIAN
METHOD:PUBLISH
X-WR-TIMEZONE:UTC
BEGIN:VEVENT
SUMMARY:Easter Coffee morning and Egg Hunt
DTSTART:20260404T090000Z
DTEND:20260404T110000Z
DTSTAMP:20260423T161103Z
UID:13119292026-04-04 09:00:00+00:00achurchnearyou
CATEGORIES:
DESCRIPTION:A community event celebrating Easter
GEO:-3.025274;53.358633
LOCATION:Christ Church
URL:https://www.achurchnearyou.com/church/12695/service-and-events/events/
 1311929/
END:VEVENT
END:VCALENDAR
