BEGIN:VCALENDAR
VERSION:2.0
PRODID:-//achurchnearyou.com//eventfeed//EN
CALSCALE:GREGORIAN
METHOD:PUBLISH
X-WR-TIMEZONE:UTC
BEGIN:VEVENT
SUMMARY:Befrienders
DTSTART;TZID=Europe/London:20260507T123000
DTEND;TZID=Europe/London:20260507T133000
DTSTAMP:20260423T041747Z
UID:7865972026-05-07 12:30:00+01:00achurchnearyou
CATEGORIES:
DESCRIPTION:Bereavement support group with sandwich lunch
GEO:-3.025274;53.358633
LOCATION:Christ Church
URL:https://www.achurchnearyou.com/church/12695/service-and-events/events/
 786597/
END:VEVENT
BEGIN:VEVENT
SUMMARY:Befrienders
DTSTART;TZID=Europe/London:20260604T123000
DTEND;TZID=Europe/London:20260604T133000
DTSTAMP:20260423T041747Z
UID:7865972026-06-04 12:30:00+01:00achurchnearyou
CATEGORIES:
DESCRIPTION:Bereavement support group with sandwich lunch
GEO:-3.025274;53.358633
LOCATION:Christ Church
URL:https://www.achurchnearyou.com/church/12695/service-and-events/events/
 786597/
END:VEVENT
BEGIN:VEVENT
SUMMARY:Befrienders
DTSTART;TZID=Europe/London:20260702T123000
DTEND;TZID=Europe/London:20260702T133000
DTSTAMP:20260423T041747Z
UID:7865972026-07-02 12:30:00+01:00achurchnearyou
CATEGORIES:
DESCRIPTION:Bereavement support group with sandwich lunch
GEO:-3.025274;53.358633
LOCATION:Christ Church
URL:https://www.achurchnearyou.com/church/12695/service-and-events/events/
 786597/
END:VEVENT
BEGIN:VEVENT
SUMMARY:Befrienders
DTSTART;TZID=Europe/London:20260806T123000
DTEND;TZID=Europe/London:20260806T133000
DTSTAMP:20260423T041747Z
UID:7865972026-08-06 12:30:00+01:00achurchnearyou
CATEGORIES:
DESCRIPTION:Bereavement support group with sandwich lunch
GEO:-3.025274;53.358633
LOCATION:Christ Church
URL:https://www.achurchnearyou.com/church/12695/service-and-events/events/
 786597/
END:VEVENT
BEGIN:VEVENT
SUMMARY:Befrienders
DTSTART;TZID=Europe/London:20260903T123000
DTEND;TZID=Europe/London:20260903T133000
DTSTAMP:20260423T041747Z
UID:7865972026-09-03 12:30:00+01:00achurchnearyou
CATEGORIES:
DESCRIPTION:Bereavement support group with sandwich lunch
GEO:-3.025274;53.358633
LOCATION:Christ Church
URL:https://www.achurchnearyou.com/church/12695/service-and-events/events/
 786597/
END:VEVENT
BEGIN:VEVENT
SUMMARY:Befrienders
DTSTART;TZID=Europe/London:20261001T123000
DTEND;TZID=Europe/London:20261001T133000
DTSTAMP:20260423T041747Z
UID:7865972026-10-01 12:30:00+01:00achurchnearyou
CATEGORIES:
DESCRIPTION:Bereavement support group with sandwich lunch
GEO:-3.025274;53.358633
LOCATION:Christ Church
URL:https://www.achurchnearyou.com/church/12695/service-and-events/events/
 786597/
END:VEVENT
BEGIN:VEVENT
SUMMARY:Befrienders
DTSTART;TZID=Europe/London:20261105T123000
DTEND;TZID=Europe/London:20261105T133000
DTSTAMP:20260423T041747Z
UID:7865972026-11-05 12:30:00+00:00achurchnearyou
CATEGORIES:
DESCRIPTION:Bereavement support group with sandwich lunch
GEO:-3.025274;53.358633
LOCATION:Christ Church
URL:https://www.achurchnearyou.com/church/12695/service-and-events/events/
 786597/
END:VEVENT
BEGIN:VEVENT
SUMMARY:Befrienders
DTSTART;TZID=Europe/London:20261203T123000
DTEND;TZID=Europe/London:20261203T133000
DTSTAMP:20260423T041747Z
UID:7865972026-12-03 12:30:00+00:00achurchnearyou
CATEGORIES:
DESCRIPTION:Bereavement support group with sandwich lunch
GEO:-3.025274;53.358633
LOCATION:Christ Church
URL:https://www.achurchnearyou.com/church/12695/service-and-events/events/
 786597/
END:VEVENT
BEGIN:VEVENT
SUMMARY:Befrienders
DTSTART;TZID=Europe/London:20270107T123000
DTEND;TZID=Europe/London:20270107T133000
DTSTAMP:20260423T041747Z
UID:7865972027-01-07 12:30:00+00:00achurchnearyou
CATEGORIES:
DESCRIPTION:Bereavement support group with sandwich lunch
GEO:-3.025274;53.358633
LOCATION:Christ Church
URL:https://www.achurchnearyou.com/church/12695/service-and-events/events/
 786597/
END:VEVENT
BEGIN:VEVENT
SUMMARY:Befrienders
DTSTART;TZID=Europe/London:20270204T123000
DTEND;TZID=Europe/London:20270204T133000
DTSTAMP:20260423T041747Z
UID:7865972027-02-04 12:30:00+00:00achurchnearyou
CATEGORIES:
DESCRIPTION:Bereavement support group with sandwich lunch
GEO:-3.025274;53.358633
LOCATION:Christ Church
URL:https://www.achurchnearyou.com/church/12695/service-and-events/events/
 786597/
END:VEVENT
BEGIN:VEVENT
SUMMARY:Befrienders
DTSTART;TZID=Europe/London:20270304T123000
DTEND;TZID=Europe/London:20270304T133000
DTSTAMP:20260423T041747Z
UID:7865972027-03-04 12:30:00+00:00achurchnearyou
CATEGORIES:
DESCRIPTION:Bereavement support group with sandwich lunch
GEO:-3.025274;53.358633
LOCATION:Christ Church
URL:https://www.achurchnearyou.com/church/12695/service-and-events/events/
 786597/
END:VEVENT
BEGIN:VEVENT
SUMMARY:Befrienders
DTSTART;TZID=Europe/London:20270401T123000
DTEND;TZID=Europe/London:20270401T133000
DTSTAMP:20260423T041747Z
UID:7865972027-04-01 12:30:00+01:00achurchnearyou
CATEGORIES:
DESCRIPTION:Bereavement support group with sandwich lunch
GEO:-3.025274;53.358633
LOCATION:Christ Church
URL:https://www.achurchnearyou.com/church/12695/service-and-events/events/
 786597/
END:VEVENT
END:VCALENDAR
