BEGIN:VCALENDAR
VERSION:2.0
PRODID:-//achurchnearyou.com//eventfeed//EN
CALSCALE:GREGORIAN
METHOD:PUBLISH
X-WR-TIMEZONE:UTC
BEGIN:VEVENT
SUMMARY:Carols at Coffee Morning
DTSTART:20251219T100000Z
DTEND:20251219T120000Z
DTSTAMP:20260420T191413Z
UID:12712972025-12-19 10:00:00+00:00achurchnearyou
CATEGORIES:
DESCRIPTION:Join us for a hot drink\, mince pies and cake\, and to sing so
 me carols!  We'll sing at around 11am and will include a short talk by Cof
 fee Morning regular\, Rob.
GEO:-2.998313;53.362762
LOCATION:St Mark's New Ferry
URL:https://www.achurchnearyou.com/church/12703/service-and-events/events/
 1271297/
END:VEVENT
END:VCALENDAR
