BEGIN:VCALENDAR
VERSION:2.0
PRODID:-//achurchnearyou.com//eventfeed//EN
CALSCALE:GREGORIAN
METHOD:PUBLISH
X-WR-TIMEZONE:UTC
BEGIN:VEVENT
SUMMARY:Coffee Morning
DTSTART;TZID=Europe/London:20260102T100000
DTEND;TZID=Europe/London:20260102T120000
DTSTAMP:20260420T054710Z
UID:12724482026-01-02 10:00:00+00:00achurchnearyou
CATEGORIES:
DESCRIPTION:A warm welcome to all the community\, with free hot drinks and
  cake!
GEO:-2.998313;53.362762
LOCATION:St Mark's New Ferry
URL:https://www.achurchnearyou.com/church/12703/service-and-events/events/
 1272448/
END:VEVENT
BEGIN:VEVENT
SUMMARY:Coffee Morning
DTSTART;TZID=Europe/London:20260109T100000
DTEND;TZID=Europe/London:20260109T120000
DTSTAMP:20260420T054710Z
UID:12724482026-01-09 10:00:00+00:00achurchnearyou
CATEGORIES:
DESCRIPTION:A warm welcome to all the community\, with free hot drinks and
  cake!
GEO:-2.998313;53.362762
LOCATION:St Mark's New Ferry
URL:https://www.achurchnearyou.com/church/12703/service-and-events/events/
 1272448/
END:VEVENT
BEGIN:VEVENT
SUMMARY:Coffee Morning
DTSTART;TZID=Europe/London:20260116T100000
DTEND;TZID=Europe/London:20260116T120000
DTSTAMP:20260420T054710Z
UID:12724482026-01-16 10:00:00+00:00achurchnearyou
CATEGORIES:
DESCRIPTION:A warm welcome to all the community\, with free hot drinks and
  cake!
GEO:-2.998313;53.362762
LOCATION:St Mark's New Ferry
URL:https://www.achurchnearyou.com/church/12703/service-and-events/events/
 1272448/
END:VEVENT
BEGIN:VEVENT
SUMMARY:Coffee Morning
DTSTART;TZID=Europe/London:20260123T100000
DTEND;TZID=Europe/London:20260123T120000
DTSTAMP:20260420T054710Z
UID:12724482026-01-23 10:00:00+00:00achurchnearyou
CATEGORIES:
DESCRIPTION:A warm welcome to all the community\, with free hot drinks and
  cake!
GEO:-2.998313;53.362762
LOCATION:St Mark's New Ferry
URL:https://www.achurchnearyou.com/church/12703/service-and-events/events/
 1272448/
END:VEVENT
BEGIN:VEVENT
SUMMARY:Coffee Morning
DTSTART;TZID=Europe/London:20260130T100000
DTEND;TZID=Europe/London:20260130T120000
DTSTAMP:20260420T054710Z
UID:12724482026-01-30 10:00:00+00:00achurchnearyou
CATEGORIES:
DESCRIPTION:A warm welcome to all the community\, with free hot drinks and
  cake!
GEO:-2.998313;53.362762
LOCATION:St Mark's New Ferry
URL:https://www.achurchnearyou.com/church/12703/service-and-events/events/
 1272448/
END:VEVENT
BEGIN:VEVENT
SUMMARY:Coffee Morning
DTSTART;TZID=Europe/London:20260206T100000
DTEND;TZID=Europe/London:20260206T120000
DTSTAMP:20260420T054710Z
UID:12724482026-02-06 10:00:00+00:00achurchnearyou
CATEGORIES:
DESCRIPTION:A warm welcome to all the community\, with free hot drinks and
  cake!
GEO:-2.998313;53.362762
LOCATION:St Mark's New Ferry
URL:https://www.achurchnearyou.com/church/12703/service-and-events/events/
 1272448/
END:VEVENT
BEGIN:VEVENT
SUMMARY:Coffee Morning
DTSTART;TZID=Europe/London:20260213T100000
DTEND;TZID=Europe/London:20260213T120000
DTSTAMP:20260420T054710Z
UID:12724482026-02-13 10:00:00+00:00achurchnearyou
CATEGORIES:
DESCRIPTION:A warm welcome to all the community\, with free hot drinks and
  cake!
GEO:-2.998313;53.362762
LOCATION:St Mark's New Ferry
URL:https://www.achurchnearyou.com/church/12703/service-and-events/events/
 1272448/
END:VEVENT
BEGIN:VEVENT
SUMMARY:Coffee Morning
DTSTART;TZID=Europe/London:20260220T100000
DTEND;TZID=Europe/London:20260220T120000
DTSTAMP:20260420T054710Z
UID:12724482026-02-20 10:00:00+00:00achurchnearyou
CATEGORIES:
DESCRIPTION:A warm welcome to all the community\, with free hot drinks and
  cake!
GEO:-2.998313;53.362762
LOCATION:St Mark's New Ferry
URL:https://www.achurchnearyou.com/church/12703/service-and-events/events/
 1272448/
END:VEVENT
BEGIN:VEVENT
SUMMARY:Coffee Morning
DTSTART;TZID=Europe/London:20260227T100000
DTEND;TZID=Europe/London:20260227T120000
DTSTAMP:20260420T054710Z
UID:12724482026-02-27 10:00:00+00:00achurchnearyou
CATEGORIES:
DESCRIPTION:A warm welcome to all the community\, with free hot drinks and
  cake!
GEO:-2.998313;53.362762
LOCATION:St Mark's New Ferry
URL:https://www.achurchnearyou.com/church/12703/service-and-events/events/
 1272448/
END:VEVENT
BEGIN:VEVENT
SUMMARY:Coffee Morning
DTSTART;TZID=Europe/London:20260306T100000
DTEND;TZID=Europe/London:20260306T120000
DTSTAMP:20260420T054710Z
UID:12724482026-03-06 10:00:00+00:00achurchnearyou
CATEGORIES:
DESCRIPTION:A warm welcome to all the community\, with free hot drinks and
  cake!
GEO:-2.998313;53.362762
LOCATION:St Mark's New Ferry
URL:https://www.achurchnearyou.com/church/12703/service-and-events/events/
 1272448/
END:VEVENT
BEGIN:VEVENT
SUMMARY:Coffee Morning
DTSTART;TZID=Europe/London:20260313T100000
DTEND;TZID=Europe/London:20260313T120000
DTSTAMP:20260420T054710Z
UID:12724482026-03-13 10:00:00+00:00achurchnearyou
CATEGORIES:
DESCRIPTION:A warm welcome to all the community\, with free hot drinks and
  cake!
GEO:-2.998313;53.362762
LOCATION:St Mark's New Ferry
URL:https://www.achurchnearyou.com/church/12703/service-and-events/events/
 1272448/
END:VEVENT
BEGIN:VEVENT
SUMMARY:Coffee Morning
DTSTART;TZID=Europe/London:20260320T100000
DTEND;TZID=Europe/London:20260320T120000
DTSTAMP:20260420T054710Z
UID:12724482026-03-20 10:00:00+00:00achurchnearyou
CATEGORIES:
DESCRIPTION:A warm welcome to all the community\, with free hot drinks and
  cake!
GEO:-2.998313;53.362762
LOCATION:St Mark's New Ferry
URL:https://www.achurchnearyou.com/church/12703/service-and-events/events/
 1272448/
END:VEVENT
BEGIN:VEVENT
SUMMARY:Coffee Morning
DTSTART;TZID=Europe/London:20260327T100000
DTEND;TZID=Europe/London:20260327T120000
DTSTAMP:20260420T054710Z
UID:12724482026-03-27 10:00:00+00:00achurchnearyou
CATEGORIES:
DESCRIPTION:A warm welcome to all the community\, with free hot drinks and
  cake!
GEO:-2.998313;53.362762
LOCATION:St Mark's New Ferry
URL:https://www.achurchnearyou.com/church/12703/service-and-events/events/
 1272448/
END:VEVENT
BEGIN:VEVENT
SUMMARY:Coffee Morning
DTSTART;TZID=Europe/London:20260403T100000
DTEND;TZID=Europe/London:20260403T120000
DTSTAMP:20260420T054710Z
UID:12724482026-04-03 10:00:00+01:00achurchnearyou
CATEGORIES:
DESCRIPTION:A warm welcome to all the community\, with free hot drinks and
  cake!
GEO:-2.998313;53.362762
LOCATION:St Mark's New Ferry
URL:https://www.achurchnearyou.com/church/12703/service-and-events/events/
 1272448/
END:VEVENT
BEGIN:VEVENT
SUMMARY:Coffee Morning
DTSTART;TZID=Europe/London:20260410T100000
DTEND;TZID=Europe/London:20260410T120000
DTSTAMP:20260420T054710Z
UID:12724482026-04-10 10:00:00+01:00achurchnearyou
CATEGORIES:
DESCRIPTION:A warm welcome to all the community\, with free hot drinks and
  cake!
GEO:-2.998313;53.362762
LOCATION:St Mark's New Ferry
URL:https://www.achurchnearyou.com/church/12703/service-and-events/events/
 1272448/
END:VEVENT
BEGIN:VEVENT
SUMMARY:Coffee Morning
DTSTART;TZID=Europe/London:20260417T100000
DTEND;TZID=Europe/London:20260417T120000
DTSTAMP:20260420T054710Z
UID:12724482026-04-17 10:00:00+01:00achurchnearyou
CATEGORIES:
DESCRIPTION:A warm welcome to all the community\, with free hot drinks and
  cake!
GEO:-2.998313;53.362762
LOCATION:St Mark's New Ferry
URL:https://www.achurchnearyou.com/church/12703/service-and-events/events/
 1272448/
END:VEVENT
BEGIN:VEVENT
SUMMARY:Coffee Morning
DTSTART;TZID=Europe/London:20260424T100000
DTEND;TZID=Europe/London:20260424T120000
DTSTAMP:20260420T054710Z
UID:12724482026-04-24 10:00:00+01:00achurchnearyou
CATEGORIES:
DESCRIPTION:A warm welcome to all the community\, with free hot drinks and
  cake!
GEO:-2.998313;53.362762
LOCATION:St Mark's New Ferry
URL:https://www.achurchnearyou.com/church/12703/service-and-events/events/
 1272448/
END:VEVENT
BEGIN:VEVENT
SUMMARY:Coffee Morning
DTSTART;TZID=Europe/London:20260501T100000
DTEND;TZID=Europe/London:20260501T120000
DTSTAMP:20260420T054710Z
UID:12724482026-05-01 10:00:00+01:00achurchnearyou
CATEGORIES:
DESCRIPTION:A warm welcome to all the community\, with free hot drinks and
  cake!
GEO:-2.998313;53.362762
LOCATION:St Mark's New Ferry
URL:https://www.achurchnearyou.com/church/12703/service-and-events/events/
 1272448/
END:VEVENT
BEGIN:VEVENT
SUMMARY:Coffee Morning
DTSTART;TZID=Europe/London:20260508T100000
DTEND;TZID=Europe/London:20260508T120000
DTSTAMP:20260420T054710Z
UID:12724482026-05-08 10:00:00+01:00achurchnearyou
CATEGORIES:
DESCRIPTION:A warm welcome to all the community\, with free hot drinks and
  cake!
GEO:-2.998313;53.362762
LOCATION:St Mark's New Ferry
URL:https://www.achurchnearyou.com/church/12703/service-and-events/events/
 1272448/
END:VEVENT
BEGIN:VEVENT
SUMMARY:Coffee Morning
DTSTART;TZID=Europe/London:20260515T100000
DTEND;TZID=Europe/London:20260515T120000
DTSTAMP:20260420T054710Z
UID:12724482026-05-15 10:00:00+01:00achurchnearyou
CATEGORIES:
DESCRIPTION:A warm welcome to all the community\, with free hot drinks and
  cake!
GEO:-2.998313;53.362762
LOCATION:St Mark's New Ferry
URL:https://www.achurchnearyou.com/church/12703/service-and-events/events/
 1272448/
END:VEVENT
BEGIN:VEVENT
SUMMARY:Coffee Morning
DTSTART;TZID=Europe/London:20260522T100000
DTEND;TZID=Europe/London:20260522T120000
DTSTAMP:20260420T054710Z
UID:12724482026-05-22 10:00:00+01:00achurchnearyou
CATEGORIES:
DESCRIPTION:A warm welcome to all the community\, with free hot drinks and
  cake!
GEO:-2.998313;53.362762
LOCATION:St Mark's New Ferry
URL:https://www.achurchnearyou.com/church/12703/service-and-events/events/
 1272448/
END:VEVENT
BEGIN:VEVENT
SUMMARY:Coffee Morning
DTSTART;TZID=Europe/London:20260529T100000
DTEND;TZID=Europe/London:20260529T120000
DTSTAMP:20260420T054710Z
UID:12724482026-05-29 10:00:00+01:00achurchnearyou
CATEGORIES:
DESCRIPTION:A warm welcome to all the community\, with free hot drinks and
  cake!
GEO:-2.998313;53.362762
LOCATION:St Mark's New Ferry
URL:https://www.achurchnearyou.com/church/12703/service-and-events/events/
 1272448/
END:VEVENT
BEGIN:VEVENT
SUMMARY:Coffee Morning
DTSTART;TZID=Europe/London:20260605T100000
DTEND;TZID=Europe/London:20260605T120000
DTSTAMP:20260420T054710Z
UID:12724482026-06-05 10:00:00+01:00achurchnearyou
CATEGORIES:
DESCRIPTION:A warm welcome to all the community\, with free hot drinks and
  cake!
GEO:-2.998313;53.362762
LOCATION:St Mark's New Ferry
URL:https://www.achurchnearyou.com/church/12703/service-and-events/events/
 1272448/
END:VEVENT
BEGIN:VEVENT
SUMMARY:Coffee Morning
DTSTART;TZID=Europe/London:20260612T100000
DTEND;TZID=Europe/London:20260612T120000
DTSTAMP:20260420T054710Z
UID:12724482026-06-12 10:00:00+01:00achurchnearyou
CATEGORIES:
DESCRIPTION:A warm welcome to all the community\, with free hot drinks and
  cake!
GEO:-2.998313;53.362762
LOCATION:St Mark's New Ferry
URL:https://www.achurchnearyou.com/church/12703/service-and-events/events/
 1272448/
END:VEVENT
BEGIN:VEVENT
SUMMARY:Coffee Morning
DTSTART;TZID=Europe/London:20260619T100000
DTEND;TZID=Europe/London:20260619T120000
DTSTAMP:20260420T054710Z
UID:12724482026-06-19 10:00:00+01:00achurchnearyou
CATEGORIES:
DESCRIPTION:A warm welcome to all the community\, with free hot drinks and
  cake!
GEO:-2.998313;53.362762
LOCATION:St Mark's New Ferry
URL:https://www.achurchnearyou.com/church/12703/service-and-events/events/
 1272448/
END:VEVENT
BEGIN:VEVENT
SUMMARY:Coffee Morning
DTSTART;TZID=Europe/London:20260626T100000
DTEND;TZID=Europe/London:20260626T120000
DTSTAMP:20260420T054710Z
UID:12724482026-06-26 10:00:00+01:00achurchnearyou
CATEGORIES:
DESCRIPTION:A warm welcome to all the community\, with free hot drinks and
  cake!
GEO:-2.998313;53.362762
LOCATION:St Mark's New Ferry
URL:https://www.achurchnearyou.com/church/12703/service-and-events/events/
 1272448/
END:VEVENT
BEGIN:VEVENT
SUMMARY:Coffee Morning
DTSTART;TZID=Europe/London:20260703T100000
DTEND;TZID=Europe/London:20260703T120000
DTSTAMP:20260420T054710Z
UID:12724482026-07-03 10:00:00+01:00achurchnearyou
CATEGORIES:
DESCRIPTION:A warm welcome to all the community\, with free hot drinks and
  cake!
GEO:-2.998313;53.362762
LOCATION:St Mark's New Ferry
URL:https://www.achurchnearyou.com/church/12703/service-and-events/events/
 1272448/
END:VEVENT
BEGIN:VEVENT
SUMMARY:Coffee Morning
DTSTART;TZID=Europe/London:20260710T100000
DTEND;TZID=Europe/London:20260710T120000
DTSTAMP:20260420T054710Z
UID:12724482026-07-10 10:00:00+01:00achurchnearyou
CATEGORIES:
DESCRIPTION:A warm welcome to all the community\, with free hot drinks and
  cake!
GEO:-2.998313;53.362762
LOCATION:St Mark's New Ferry
URL:https://www.achurchnearyou.com/church/12703/service-and-events/events/
 1272448/
END:VEVENT
BEGIN:VEVENT
SUMMARY:Coffee Morning
DTSTART;TZID=Europe/London:20260717T100000
DTEND;TZID=Europe/London:20260717T120000
DTSTAMP:20260420T054710Z
UID:12724482026-07-17 10:00:00+01:00achurchnearyou
CATEGORIES:
DESCRIPTION:A warm welcome to all the community\, with free hot drinks and
  cake!
GEO:-2.998313;53.362762
LOCATION:St Mark's New Ferry
URL:https://www.achurchnearyou.com/church/12703/service-and-events/events/
 1272448/
END:VEVENT
BEGIN:VEVENT
SUMMARY:Coffee Morning
DTSTART;TZID=Europe/London:20260724T100000
DTEND;TZID=Europe/London:20260724T120000
DTSTAMP:20260420T054710Z
UID:12724482026-07-24 10:00:00+01:00achurchnearyou
CATEGORIES:
DESCRIPTION:A warm welcome to all the community\, with free hot drinks and
  cake!
GEO:-2.998313;53.362762
LOCATION:St Mark's New Ferry
URL:https://www.achurchnearyou.com/church/12703/service-and-events/events/
 1272448/
END:VEVENT
BEGIN:VEVENT
SUMMARY:Coffee Morning
DTSTART;TZID=Europe/London:20260731T100000
DTEND;TZID=Europe/London:20260731T120000
DTSTAMP:20260420T054710Z
UID:12724482026-07-31 10:00:00+01:00achurchnearyou
CATEGORIES:
DESCRIPTION:A warm welcome to all the community\, with free hot drinks and
  cake!
GEO:-2.998313;53.362762
LOCATION:St Mark's New Ferry
URL:https://www.achurchnearyou.com/church/12703/service-and-events/events/
 1272448/
END:VEVENT
BEGIN:VEVENT
SUMMARY:Coffee Morning
DTSTART;TZID=Europe/London:20260807T100000
DTEND;TZID=Europe/London:20260807T120000
DTSTAMP:20260420T054710Z
UID:12724482026-08-07 10:00:00+01:00achurchnearyou
CATEGORIES:
DESCRIPTION:A warm welcome to all the community\, with free hot drinks and
  cake!
GEO:-2.998313;53.362762
LOCATION:St Mark's New Ferry
URL:https://www.achurchnearyou.com/church/12703/service-and-events/events/
 1272448/
END:VEVENT
BEGIN:VEVENT
SUMMARY:Coffee Morning
DTSTART;TZID=Europe/London:20260814T100000
DTEND;TZID=Europe/London:20260814T120000
DTSTAMP:20260420T054710Z
UID:12724482026-08-14 10:00:00+01:00achurchnearyou
CATEGORIES:
DESCRIPTION:A warm welcome to all the community\, with free hot drinks and
  cake!
GEO:-2.998313;53.362762
LOCATION:St Mark's New Ferry
URL:https://www.achurchnearyou.com/church/12703/service-and-events/events/
 1272448/
END:VEVENT
BEGIN:VEVENT
SUMMARY:Coffee Morning
DTSTART;TZID=Europe/London:20260821T100000
DTEND;TZID=Europe/London:20260821T120000
DTSTAMP:20260420T054710Z
UID:12724482026-08-21 10:00:00+01:00achurchnearyou
CATEGORIES:
DESCRIPTION:A warm welcome to all the community\, with free hot drinks and
  cake!
GEO:-2.998313;53.362762
LOCATION:St Mark's New Ferry
URL:https://www.achurchnearyou.com/church/12703/service-and-events/events/
 1272448/
END:VEVENT
BEGIN:VEVENT
SUMMARY:Coffee Morning
DTSTART;TZID=Europe/London:20260828T100000
DTEND;TZID=Europe/London:20260828T120000
DTSTAMP:20260420T054710Z
UID:12724482026-08-28 10:00:00+01:00achurchnearyou
CATEGORIES:
DESCRIPTION:A warm welcome to all the community\, with free hot drinks and
  cake!
GEO:-2.998313;53.362762
LOCATION:St Mark's New Ferry
URL:https://www.achurchnearyou.com/church/12703/service-and-events/events/
 1272448/
END:VEVENT
BEGIN:VEVENT
SUMMARY:Coffee Morning
DTSTART;TZID=Europe/London:20260904T100000
DTEND;TZID=Europe/London:20260904T120000
DTSTAMP:20260420T054710Z
UID:12724482026-09-04 10:00:00+01:00achurchnearyou
CATEGORIES:
DESCRIPTION:A warm welcome to all the community\, with free hot drinks and
  cake!
GEO:-2.998313;53.362762
LOCATION:St Mark's New Ferry
URL:https://www.achurchnearyou.com/church/12703/service-and-events/events/
 1272448/
END:VEVENT
BEGIN:VEVENT
SUMMARY:Coffee Morning
DTSTART;TZID=Europe/London:20260911T100000
DTEND;TZID=Europe/London:20260911T120000
DTSTAMP:20260420T054710Z
UID:12724482026-09-11 10:00:00+01:00achurchnearyou
CATEGORIES:
DESCRIPTION:A warm welcome to all the community\, with free hot drinks and
  cake!
GEO:-2.998313;53.362762
LOCATION:St Mark's New Ferry
URL:https://www.achurchnearyou.com/church/12703/service-and-events/events/
 1272448/
END:VEVENT
BEGIN:VEVENT
SUMMARY:Coffee Morning
DTSTART;TZID=Europe/London:20260918T100000
DTEND;TZID=Europe/London:20260918T120000
DTSTAMP:20260420T054710Z
UID:12724482026-09-18 10:00:00+01:00achurchnearyou
CATEGORIES:
DESCRIPTION:A warm welcome to all the community\, with free hot drinks and
  cake!
GEO:-2.998313;53.362762
LOCATION:St Mark's New Ferry
URL:https://www.achurchnearyou.com/church/12703/service-and-events/events/
 1272448/
END:VEVENT
BEGIN:VEVENT
SUMMARY:Coffee Morning
DTSTART;TZID=Europe/London:20260925T100000
DTEND;TZID=Europe/London:20260925T120000
DTSTAMP:20260420T054710Z
UID:12724482026-09-25 10:00:00+01:00achurchnearyou
CATEGORIES:
DESCRIPTION:A warm welcome to all the community\, with free hot drinks and
  cake!
GEO:-2.998313;53.362762
LOCATION:St Mark's New Ferry
URL:https://www.achurchnearyou.com/church/12703/service-and-events/events/
 1272448/
END:VEVENT
BEGIN:VEVENT
SUMMARY:Coffee Morning
DTSTART;TZID=Europe/London:20261002T100000
DTEND;TZID=Europe/London:20261002T120000
DTSTAMP:20260420T054710Z
UID:12724482026-10-02 10:00:00+01:00achurchnearyou
CATEGORIES:
DESCRIPTION:A warm welcome to all the community\, with free hot drinks and
  cake!
GEO:-2.998313;53.362762
LOCATION:St Mark's New Ferry
URL:https://www.achurchnearyou.com/church/12703/service-and-events/events/
 1272448/
END:VEVENT
BEGIN:VEVENT
SUMMARY:Coffee Morning
DTSTART;TZID=Europe/London:20261009T100000
DTEND;TZID=Europe/London:20261009T120000
DTSTAMP:20260420T054710Z
UID:12724482026-10-09 10:00:00+01:00achurchnearyou
CATEGORIES:
DESCRIPTION:A warm welcome to all the community\, with free hot drinks and
  cake!
GEO:-2.998313;53.362762
LOCATION:St Mark's New Ferry
URL:https://www.achurchnearyou.com/church/12703/service-and-events/events/
 1272448/
END:VEVENT
BEGIN:VEVENT
SUMMARY:Coffee Morning
DTSTART;TZID=Europe/London:20261016T100000
DTEND;TZID=Europe/London:20261016T120000
DTSTAMP:20260420T054710Z
UID:12724482026-10-16 10:00:00+01:00achurchnearyou
CATEGORIES:
DESCRIPTION:A warm welcome to all the community\, with free hot drinks and
  cake!
GEO:-2.998313;53.362762
LOCATION:St Mark's New Ferry
URL:https://www.achurchnearyou.com/church/12703/service-and-events/events/
 1272448/
END:VEVENT
BEGIN:VEVENT
SUMMARY:Coffee Morning
DTSTART;TZID=Europe/London:20261023T100000
DTEND;TZID=Europe/London:20261023T120000
DTSTAMP:20260420T054710Z
UID:12724482026-10-23 10:00:00+01:00achurchnearyou
CATEGORIES:
DESCRIPTION:A warm welcome to all the community\, with free hot drinks and
  cake!
GEO:-2.998313;53.362762
LOCATION:St Mark's New Ferry
URL:https://www.achurchnearyou.com/church/12703/service-and-events/events/
 1272448/
END:VEVENT
BEGIN:VEVENT
SUMMARY:Coffee Morning
DTSTART;TZID=Europe/London:20261030T100000
DTEND;TZID=Europe/London:20261030T120000
DTSTAMP:20260420T054710Z
UID:12724482026-10-30 10:00:00+00:00achurchnearyou
CATEGORIES:
DESCRIPTION:A warm welcome to all the community\, with free hot drinks and
  cake!
GEO:-2.998313;53.362762
LOCATION:St Mark's New Ferry
URL:https://www.achurchnearyou.com/church/12703/service-and-events/events/
 1272448/
END:VEVENT
BEGIN:VEVENT
SUMMARY:Coffee Morning
DTSTART;TZID=Europe/London:20261106T100000
DTEND;TZID=Europe/London:20261106T120000
DTSTAMP:20260420T054710Z
UID:12724482026-11-06 10:00:00+00:00achurchnearyou
CATEGORIES:
DESCRIPTION:A warm welcome to all the community\, with free hot drinks and
  cake!
GEO:-2.998313;53.362762
LOCATION:St Mark's New Ferry
URL:https://www.achurchnearyou.com/church/12703/service-and-events/events/
 1272448/
END:VEVENT
BEGIN:VEVENT
SUMMARY:Coffee Morning
DTSTART;TZID=Europe/London:20261113T100000
DTEND;TZID=Europe/London:20261113T120000
DTSTAMP:20260420T054710Z
UID:12724482026-11-13 10:00:00+00:00achurchnearyou
CATEGORIES:
DESCRIPTION:A warm welcome to all the community\, with free hot drinks and
  cake!
GEO:-2.998313;53.362762
LOCATION:St Mark's New Ferry
URL:https://www.achurchnearyou.com/church/12703/service-and-events/events/
 1272448/
END:VEVENT
BEGIN:VEVENT
SUMMARY:Coffee Morning
DTSTART;TZID=Europe/London:20261120T100000
DTEND;TZID=Europe/London:20261120T120000
DTSTAMP:20260420T054710Z
UID:12724482026-11-20 10:00:00+00:00achurchnearyou
CATEGORIES:
DESCRIPTION:A warm welcome to all the community\, with free hot drinks and
  cake!
GEO:-2.998313;53.362762
LOCATION:St Mark's New Ferry
URL:https://www.achurchnearyou.com/church/12703/service-and-events/events/
 1272448/
END:VEVENT
BEGIN:VEVENT
SUMMARY:Coffee Morning
DTSTART;TZID=Europe/London:20261127T100000
DTEND;TZID=Europe/London:20261127T120000
DTSTAMP:20260420T054710Z
UID:12724482026-11-27 10:00:00+00:00achurchnearyou
CATEGORIES:
DESCRIPTION:A warm welcome to all the community\, with free hot drinks and
  cake!
GEO:-2.998313;53.362762
LOCATION:St Mark's New Ferry
URL:https://www.achurchnearyou.com/church/12703/service-and-events/events/
 1272448/
END:VEVENT
BEGIN:VEVENT
SUMMARY:Coffee Morning
DTSTART;TZID=Europe/London:20261204T100000
DTEND;TZID=Europe/London:20261204T120000
DTSTAMP:20260420T054710Z
UID:12724482026-12-04 10:00:00+00:00achurchnearyou
CATEGORIES:
DESCRIPTION:A warm welcome to all the community\, with free hot drinks and
  cake!
GEO:-2.998313;53.362762
LOCATION:St Mark's New Ferry
URL:https://www.achurchnearyou.com/church/12703/service-and-events/events/
 1272448/
END:VEVENT
BEGIN:VEVENT
SUMMARY:Coffee Morning
DTSTART;TZID=Europe/London:20261211T100000
DTEND;TZID=Europe/London:20261211T120000
DTSTAMP:20260420T054710Z
UID:12724482026-12-11 10:00:00+00:00achurchnearyou
CATEGORIES:
DESCRIPTION:A warm welcome to all the community\, with free hot drinks and
  cake!
GEO:-2.998313;53.362762
LOCATION:St Mark's New Ferry
URL:https://www.achurchnearyou.com/church/12703/service-and-events/events/
 1272448/
END:VEVENT
BEGIN:VEVENT
SUMMARY:Coffee Morning
DTSTART;TZID=Europe/London:20261218T100000
DTEND;TZID=Europe/London:20261218T120000
DTSTAMP:20260420T054710Z
UID:12724482026-12-18 10:00:00+00:00achurchnearyou
CATEGORIES:
DESCRIPTION:A warm welcome to all the community\, with free hot drinks and
  cake!
GEO:-2.998313;53.362762
LOCATION:St Mark's New Ferry
URL:https://www.achurchnearyou.com/church/12703/service-and-events/events/
 1272448/
END:VEVENT
END:VCALENDAR
