BEGIN:VCALENDAR
VERSION:2.0
PRODID:-//achurchnearyou.com//eventfeed//EN
CALSCALE:GREGORIAN
METHOD:PUBLISH
X-WR-TIMEZONE:UTC
BEGIN:VEVENT
SUMMARY:Maundy Thursday Eucharist
DTSTART:20260402T183000Z
DTEND:20260402T193000Z
DTSTAMP:20260422T151049Z
UID:7296232026-04-02 18:30:00+00:00achurchnearyou
CATEGORIES:
DESCRIPTION:Holy Communion\, Stripping of the Altars\, followed by Gethsem
 ane Watch until midnight.\nClick "View attachment" for service sheet
GEO:-3.176417;53.368767
LOCATION:St Bridget
URL:https://www.achurchnearyou.com/church/12707/service-and-events/events/
 729623/
END:VEVENT
END:VCALENDAR
