BEGIN:VCALENDAR
VERSION:2.0
PRODID:-//achurchnearyou.com//eventfeed//EN
CALSCALE:GREGORIAN
METHOD:PUBLISH
X-WR-TIMEZONE:UTC
BEGIN:VEVENT
SUMMARY:Solemn Liturgy with Veneration of the Cross and Communion
DTSTART:20250418T140000Z
DTEND:20250418T150000Z
DTSTAMP:20260424T215814Z
UID:11887982025-04-18 14:00:00+00:00achurchnearyou
CATEGORIES:
DESCRIPTION:Good Friday
GEO:-3.18567;53.376257
LOCATION:SAINT ANDREW’S\, WEST KIRBY
URL:https://www.achurchnearyou.com/church/12709/service-and-events/events/
 1188798/
END:VEVENT
END:VCALENDAR
