BEGIN:VCALENDAR
VERSION:2.0
PRODID:-//achurchnearyou.com//eventfeed//EN
CALSCALE:GREGORIAN
METHOD:PUBLISH
X-WR-TIMEZONE:UTC
BEGIN:VEVENT
SUMMARY:NINE LESSONS AND CAROLS - CHRISTMAS CAROL SERVICE
DTSTART:20251221T180000Z
DTEND:20251221T190000Z
DTSTAMP:20260424T000133Z
UID:12679052025-12-21 18:00:00+00:00achurchnearyou
CATEGORIES:
DESCRIPTION:Join us for our service of nine lessons which tell the beautif
 ul story of how God came to save humanity. We will sing carols\, hear anth
 ems - and have a glass of sherry and a mince pie at the end!
GEO:-3.18567;53.376257
LOCATION:SAINT ANDREW’S\, WEST KIRBY
URL:https://www.achurchnearyou.com/church/12709/service-and-events/events/
 1267905/
END:VEVENT
END:VCALENDAR
