BEGIN:VCALENDAR
VERSION:2.0
PRODID:-//achurchnearyou.com//eventfeed//EN
CALSCALE:GREGORIAN
METHOD:PUBLISH
X-WR-TIMEZONE:UTC
BEGIN:VEVENT
SUMMARY:First Mass of Christmas Eve
DTSTART:20251224T220000Z
DTEND:20251224T233000Z
DTSTAMP:20260424T013000Z
UID:12679082025-12-24 22:00:00+00:00achurchnearyou
CATEGORIES:
DESCRIPTION:A beautiful\, traditional and spiritual time with carols and r
 eadings
GEO:-3.18567;53.376257
LOCATION:SAINT ANDREW’S\, WEST KIRBY
URL:https://www.achurchnearyou.com/church/12709/service-and-events/events/
 1267908/
END:VEVENT
END:VCALENDAR
