BEGIN:VCALENDAR
VERSION:2.0
PRODID:-//achurchnearyou.com//eventfeed//EN
CALSCALE:GREGORIAN
METHOD:PUBLISH
X-WR-TIMEZONE:UTC
BEGIN:VEVENT
SUMMARY:1st Sunday of the month at Holy Trinity\, Capenhurst
DTSTART;TZID=Europe/London:20260405T111500
DTEND;TZID=Europe/London:20260405T121500
DTSTAMP:20260422T115551Z
UID:7004591775384100.0achurchnearyou
CATEGORIES:
DESCRIPTION:There is no service at St Oswald on the first Sunday of the mo
 nth\, however you are welcome as we join with Holy Trinity\, Capenhurst wh
 ere Revd Elaine White will celebrate Holy Communion.
LOCATION:Holy Trinity Church\, Capenhurst
URL:https://www.achurchnearyou.com/church/12711/service-and-events/events/
 700459/
END:VEVENT
BEGIN:VEVENT
SUMMARY:2nd Sunday of the month - Parish Communion
DTSTART;TZID=Europe/London:20260412T111500
DTEND;TZID=Europe/London:20260412T121500
DTSTAMP:20260422T115551Z
UID:7443101775988900.0achurchnearyou
CATEGORIES:
DESCRIPTION:Parish Communion where we will be joined by friends from Holy 
 Trinity \, Capenhurst.
GEO:-2.903317;53.238847
LOCATION:St Oswald\, Backford
URL:https://www.achurchnearyou.com/church/12711/service-and-events/events/
 744310/
END:VEVENT
BEGIN:VEVENT
SUMMARY:3rd Sunday of the month
DTSTART;TZID=Europe/London:20260419T111500
DTEND;TZID=Europe/London:20260419T121500
DTSTAMP:20260422T115551Z
UID:8511501776593700.0achurchnearyou
CATEGORIES:
DESCRIPTION:Morning Worship led by a lay reader.  All welcome.
GEO:-2.903317;53.238847
LOCATION:St Oswald\, Backford
URL:https://www.achurchnearyou.com/church/12711/service-and-events/events/
 851150/
END:VEVENT
BEGIN:VEVENT
SUMMARY:4th Sunday of the month - Holy Communion
DTSTART;TZID=Europe/London:20260426T111500
DTEND;TZID=Europe/London:20260426T121500
DTSTAMP:20260422T115551Z
UID:8511511777198500.0achurchnearyou
CATEGORIES:
DESCRIPTION:Common Worship Holy Communion.  All welcome.
GEO:-2.903317;53.238847
LOCATION:St Oswald\, Backford
URL:https://www.achurchnearyou.com/church/12711/service-and-events/events/
 851151/
END:VEVENT
BEGIN:VEVENT
SUMMARY:1st Sunday of the month at Holy Trinity\, Capenhurst
DTSTART;TZID=Europe/London:20260503T111500
DTEND;TZID=Europe/London:20260503T121500
DTSTAMP:20260422T115551Z
UID:7004591777803300.0achurchnearyou
CATEGORIES:
DESCRIPTION:There is no service at St Oswald on the first Sunday of the mo
 nth\, however you are welcome as we join with Holy Trinity\, Capenhurst wh
 ere Revd Elaine White will celebrate Holy Communion.
LOCATION:Holy Trinity Church\, Capenhurst
URL:https://www.achurchnearyou.com/church/12711/service-and-events/events/
 700459/
END:VEVENT
BEGIN:VEVENT
SUMMARY:2nd Sunday of the month - Parish Communion
DTSTART;TZID=Europe/London:20260510T111500
DTEND;TZID=Europe/London:20260510T121500
DTSTAMP:20260422T115551Z
UID:7443101778408100.0achurchnearyou
CATEGORIES:
DESCRIPTION:Parish Communion where we will be joined by friends from Holy 
 Trinity \, Capenhurst.
GEO:-2.903317;53.238847
LOCATION:St Oswald\, Backford
URL:https://www.achurchnearyou.com/church/12711/service-and-events/events/
 744310/
END:VEVENT
BEGIN:VEVENT
SUMMARY:3rd Sunday of the month
DTSTART;TZID=Europe/London:20260517T111500
DTEND;TZID=Europe/London:20260517T121500
DTSTAMP:20260422T115551Z
UID:8511501779012900.0achurchnearyou
CATEGORIES:
DESCRIPTION:Morning Worship led by a lay reader.  All welcome.
GEO:-2.903317;53.238847
LOCATION:St Oswald\, Backford
URL:https://www.achurchnearyou.com/church/12711/service-and-events/events/
 851150/
END:VEVENT
BEGIN:VEVENT
SUMMARY:4th Sunday of the month - Holy Communion
DTSTART;TZID=Europe/London:20260524T111500
DTEND;TZID=Europe/London:20260524T121500
DTSTAMP:20260422T115551Z
UID:8511511779617700.0achurchnearyou
CATEGORIES:
DESCRIPTION:Common Worship Holy Communion.  All welcome.
GEO:-2.903317;53.238847
LOCATION:St Oswald\, Backford
URL:https://www.achurchnearyou.com/church/12711/service-and-events/events/
 851151/
END:VEVENT
BEGIN:VEVENT
SUMMARY:1st Sunday of the month at Holy Trinity\, Capenhurst
DTSTART;TZID=Europe/London:20260607T111500
DTEND;TZID=Europe/London:20260607T121500
DTSTAMP:20260422T115551Z
UID:7004591780827300.0achurchnearyou
CATEGORIES:
DESCRIPTION:There is no service at St Oswald on the first Sunday of the mo
 nth\, however you are welcome as we join with Holy Trinity\, Capenhurst wh
 ere Revd Elaine White will celebrate Holy Communion.
LOCATION:Holy Trinity Church\, Capenhurst
URL:https://www.achurchnearyou.com/church/12711/service-and-events/events/
 700459/
END:VEVENT
BEGIN:VEVENT
SUMMARY:2nd Sunday of the month - Parish Communion
DTSTART;TZID=Europe/London:20260614T111500
DTEND;TZID=Europe/London:20260614T121500
DTSTAMP:20260422T115551Z
UID:7443101781432100.0achurchnearyou
CATEGORIES:
DESCRIPTION:Parish Communion where we will be joined by friends from Holy 
 Trinity \, Capenhurst.
GEO:-2.903317;53.238847
LOCATION:St Oswald\, Backford
URL:https://www.achurchnearyou.com/church/12711/service-and-events/events/
 744310/
END:VEVENT
BEGIN:VEVENT
SUMMARY:3rd Sunday of the month
DTSTART;TZID=Europe/London:20260621T111500
DTEND;TZID=Europe/London:20260621T121500
DTSTAMP:20260422T115551Z
UID:8511501782036900.0achurchnearyou
CATEGORIES:
DESCRIPTION:Morning Worship led by a lay reader.  All welcome.
GEO:-2.903317;53.238847
LOCATION:St Oswald\, Backford
URL:https://www.achurchnearyou.com/church/12711/service-and-events/events/
 851150/
END:VEVENT
BEGIN:VEVENT
SUMMARY:4th Sunday of the month - Holy Communion
DTSTART;TZID=Europe/London:20260628T111500
DTEND;TZID=Europe/London:20260628T121500
DTSTAMP:20260422T115551Z
UID:8511511782641700.0achurchnearyou
CATEGORIES:
DESCRIPTION:Common Worship Holy Communion.  All welcome.
GEO:-2.903317;53.238847
LOCATION:St Oswald\, Backford
URL:https://www.achurchnearyou.com/church/12711/service-and-events/events/
 851151/
END:VEVENT
BEGIN:VEVENT
SUMMARY:1st Sunday of the month at Holy Trinity\, Capenhurst
DTSTART;TZID=Europe/London:20260705T111500
DTEND;TZID=Europe/London:20260705T121500
DTSTAMP:20260422T115551Z
UID:7004591783246500.0achurchnearyou
CATEGORIES:
DESCRIPTION:There is no service at St Oswald on the first Sunday of the mo
 nth\, however you are welcome as we join with Holy Trinity\, Capenhurst wh
 ere Revd Elaine White will celebrate Holy Communion.
LOCATION:Holy Trinity Church\, Capenhurst
URL:https://www.achurchnearyou.com/church/12711/service-and-events/events/
 700459/
END:VEVENT
BEGIN:VEVENT
SUMMARY:2nd Sunday of the month - Parish Communion
DTSTART;TZID=Europe/London:20260712T111500
DTEND;TZID=Europe/London:20260712T121500
DTSTAMP:20260422T115551Z
UID:7443101783851300.0achurchnearyou
CATEGORIES:
DESCRIPTION:Parish Communion where we will be joined by friends from Holy 
 Trinity \, Capenhurst.
GEO:-2.903317;53.238847
LOCATION:St Oswald\, Backford
URL:https://www.achurchnearyou.com/church/12711/service-and-events/events/
 744310/
END:VEVENT
BEGIN:VEVENT
SUMMARY:3rd Sunday of the month
DTSTART;TZID=Europe/London:20260719T111500
DTEND;TZID=Europe/London:20260719T121500
DTSTAMP:20260422T115551Z
UID:8511501784456100.0achurchnearyou
CATEGORIES:
DESCRIPTION:Morning Worship led by a lay reader.  All welcome.
GEO:-2.903317;53.238847
LOCATION:St Oswald\, Backford
URL:https://www.achurchnearyou.com/church/12711/service-and-events/events/
 851150/
END:VEVENT
BEGIN:VEVENT
SUMMARY:4th Sunday of the month - Holy Communion
DTSTART;TZID=Europe/London:20260726T111500
DTEND;TZID=Europe/London:20260726T121500
DTSTAMP:20260422T115551Z
UID:8511511785060900.0achurchnearyou
CATEGORIES:
DESCRIPTION:Common Worship Holy Communion.  All welcome.
GEO:-2.903317;53.238847
LOCATION:St Oswald\, Backford
URL:https://www.achurchnearyou.com/church/12711/service-and-events/events/
 851151/
END:VEVENT
BEGIN:VEVENT
SUMMARY:1st Sunday of the month at Holy Trinity\, Capenhurst
DTSTART;TZID=Europe/London:20260802T111500
DTEND;TZID=Europe/London:20260802T121500
DTSTAMP:20260422T115551Z
UID:7004591785665700.0achurchnearyou
CATEGORIES:
DESCRIPTION:There is no service at St Oswald on the first Sunday of the mo
 nth\, however you are welcome as we join with Holy Trinity\, Capenhurst wh
 ere Revd Elaine White will celebrate Holy Communion.
LOCATION:Holy Trinity Church\, Capenhurst
URL:https://www.achurchnearyou.com/church/12711/service-and-events/events/
 700459/
END:VEVENT
BEGIN:VEVENT
SUMMARY:2nd Sunday of the month - Parish Communion
DTSTART;TZID=Europe/London:20260809T111500
DTEND;TZID=Europe/London:20260809T121500
DTSTAMP:20260422T115551Z
UID:7443101786270500.0achurchnearyou
CATEGORIES:
DESCRIPTION:Parish Communion where we will be joined by friends from Holy 
 Trinity \, Capenhurst.
GEO:-2.903317;53.238847
LOCATION:St Oswald\, Backford
URL:https://www.achurchnearyou.com/church/12711/service-and-events/events/
 744310/
END:VEVENT
BEGIN:VEVENT
SUMMARY:3rd Sunday of the month
DTSTART;TZID=Europe/London:20260816T111500
DTEND;TZID=Europe/London:20260816T121500
DTSTAMP:20260422T115551Z
UID:8511501786875300.0achurchnearyou
CATEGORIES:
DESCRIPTION:Morning Worship led by a lay reader.  All welcome.
GEO:-2.903317;53.238847
LOCATION:St Oswald\, Backford
URL:https://www.achurchnearyou.com/church/12711/service-and-events/events/
 851150/
END:VEVENT
BEGIN:VEVENT
SUMMARY:4th Sunday of the month - Holy Communion
DTSTART;TZID=Europe/London:20260823T111500
DTEND;TZID=Europe/London:20260823T121500
DTSTAMP:20260422T115551Z
UID:8511511787480100.0achurchnearyou
CATEGORIES:
DESCRIPTION:Common Worship Holy Communion.  All welcome.
GEO:-2.903317;53.238847
LOCATION:St Oswald\, Backford
URL:https://www.achurchnearyou.com/church/12711/service-and-events/events/
 851151/
END:VEVENT
BEGIN:VEVENT
SUMMARY:1st Sunday of the month at Holy Trinity\, Capenhurst
DTSTART;TZID=Europe/London:20260906T111500
DTEND;TZID=Europe/London:20260906T121500
DTSTAMP:20260422T115551Z
UID:7004591788689700.0achurchnearyou
CATEGORIES:
DESCRIPTION:There is no service at St Oswald on the first Sunday of the mo
 nth\, however you are welcome as we join with Holy Trinity\, Capenhurst wh
 ere Revd Elaine White will celebrate Holy Communion.
LOCATION:Holy Trinity Church\, Capenhurst
URL:https://www.achurchnearyou.com/church/12711/service-and-events/events/
 700459/
END:VEVENT
BEGIN:VEVENT
SUMMARY:2nd Sunday of the month - Parish Communion
DTSTART;TZID=Europe/London:20260913T111500
DTEND;TZID=Europe/London:20260913T121500
DTSTAMP:20260422T115551Z
UID:7443101789294500.0achurchnearyou
CATEGORIES:
DESCRIPTION:Parish Communion where we will be joined by friends from Holy 
 Trinity \, Capenhurst.
GEO:-2.903317;53.238847
LOCATION:St Oswald\, Backford
URL:https://www.achurchnearyou.com/church/12711/service-and-events/events/
 744310/
END:VEVENT
BEGIN:VEVENT
SUMMARY:3rd Sunday of the month
DTSTART;TZID=Europe/London:20260920T111500
DTEND;TZID=Europe/London:20260920T121500
DTSTAMP:20260422T115551Z
UID:8511501789899300.0achurchnearyou
CATEGORIES:
DESCRIPTION:Morning Worship led by a lay reader.  All welcome.
GEO:-2.903317;53.238847
LOCATION:St Oswald\, Backford
URL:https://www.achurchnearyou.com/church/12711/service-and-events/events/
 851150/
END:VEVENT
BEGIN:VEVENT
SUMMARY:4th Sunday of the month - Holy Communion
DTSTART;TZID=Europe/London:20260927T111500
DTEND;TZID=Europe/London:20260927T121500
DTSTAMP:20260422T115551Z
UID:8511511790504100.0achurchnearyou
CATEGORIES:
DESCRIPTION:Common Worship Holy Communion.  All welcome.
GEO:-2.903317;53.238847
LOCATION:St Oswald\, Backford
URL:https://www.achurchnearyou.com/church/12711/service-and-events/events/
 851151/
END:VEVENT
END:VCALENDAR
