BEGIN:VCALENDAR
VERSION:2.0
PRODID:-//achurchnearyou.com//eventfeed//EN
CALSCALE:GREGORIAN
METHOD:PUBLISH
X-WR-TIMEZONE:UTC
BEGIN:VEVENT
SUMMARY:9.15 am Morning Prayer
DTSTART;TZID=Europe/London:20260426T091500
DTEND;TZID=Europe/London:20260426T101500
DTSTAMP:20260423T090949Z
UID:6607012026-04-26 09:15:00+01:00achurchnearyou
CATEGORIES:
DESCRIPTION:Morning prayer using the pattern from Common worship. There ar
 e hymns and a sermon. Children are welcome. There is  a children's corner 
 and 'busy bags' to take to the pew\, but children are not specifically loo
 ked after in a separate provision.
GEO:-2.978861;53.332895
LOCATION:St Barnabas Bromborough
URL:https://www.achurchnearyou.com/church/12712/service-and-events/events/
 660701/
END:VEVENT
BEGIN:VEVENT
SUMMARY:9.15 am Morning Prayer
DTSTART;TZID=Europe/London:20260524T091500
DTEND;TZID=Europe/London:20260524T101500
DTSTAMP:20260423T090949Z
UID:6607012026-05-24 09:15:00+01:00achurchnearyou
CATEGORIES:
DESCRIPTION:Morning prayer using the pattern from Common worship. There ar
 e hymns and a sermon. Children are welcome. There is  a children's corner 
 and 'busy bags' to take to the pew\, but children are not specifically loo
 ked after in a separate provision.
GEO:-2.978861;53.332895
LOCATION:St Barnabas Bromborough
URL:https://www.achurchnearyou.com/church/12712/service-and-events/events/
 660701/
END:VEVENT
BEGIN:VEVENT
SUMMARY:9.15 am Morning Prayer
DTSTART;TZID=Europe/London:20260628T091500
DTEND;TZID=Europe/London:20260628T101500
DTSTAMP:20260423T090949Z
UID:6607012026-06-28 09:15:00+01:00achurchnearyou
CATEGORIES:
DESCRIPTION:Morning prayer using the pattern from Common worship. There ar
 e hymns and a sermon. Children are welcome. There is  a children's corner 
 and 'busy bags' to take to the pew\, but children are not specifically loo
 ked after in a separate provision.
GEO:-2.978861;53.332895
LOCATION:St Barnabas Bromborough
URL:https://www.achurchnearyou.com/church/12712/service-and-events/events/
 660701/
END:VEVENT
BEGIN:VEVENT
SUMMARY:9.15 am Morning Prayer
DTSTART;TZID=Europe/London:20260726T091500
DTEND;TZID=Europe/London:20260726T101500
DTSTAMP:20260423T090949Z
UID:6607012026-07-26 09:15:00+01:00achurchnearyou
CATEGORIES:
DESCRIPTION:Morning prayer using the pattern from Common worship. There ar
 e hymns and a sermon. Children are welcome. There is  a children's corner 
 and 'busy bags' to take to the pew\, but children are not specifically loo
 ked after in a separate provision.
GEO:-2.978861;53.332895
LOCATION:St Barnabas Bromborough
URL:https://www.achurchnearyou.com/church/12712/service-and-events/events/
 660701/
END:VEVENT
BEGIN:VEVENT
SUMMARY:9.15 am Morning Prayer
DTSTART;TZID=Europe/London:20260823T091500
DTEND;TZID=Europe/London:20260823T101500
DTSTAMP:20260423T090949Z
UID:6607012026-08-23 09:15:00+01:00achurchnearyou
CATEGORIES:
DESCRIPTION:Morning prayer using the pattern from Common worship. There ar
 e hymns and a sermon. Children are welcome. There is  a children's corner 
 and 'busy bags' to take to the pew\, but children are not specifically loo
 ked after in a separate provision.
GEO:-2.978861;53.332895
LOCATION:St Barnabas Bromborough
URL:https://www.achurchnearyou.com/church/12712/service-and-events/events/
 660701/
END:VEVENT
BEGIN:VEVENT
SUMMARY:9.15 am Morning Prayer
DTSTART;TZID=Europe/London:20260927T091500
DTEND;TZID=Europe/London:20260927T101500
DTSTAMP:20260423T090949Z
UID:6607012026-09-27 09:15:00+01:00achurchnearyou
CATEGORIES:
DESCRIPTION:Morning prayer using the pattern from Common worship. There ar
 e hymns and a sermon. Children are welcome. There is  a children's corner 
 and 'busy bags' to take to the pew\, but children are not specifically loo
 ked after in a separate provision.
GEO:-2.978861;53.332895
LOCATION:St Barnabas Bromborough
URL:https://www.achurchnearyou.com/church/12712/service-and-events/events/
 660701/
END:VEVENT
BEGIN:VEVENT
SUMMARY:9.15 am Morning Prayer
DTSTART;TZID=Europe/London:20261025T091500
DTEND;TZID=Europe/London:20261025T101500
DTSTAMP:20260423T090949Z
UID:6607012026-10-25 09:15:00+00:00achurchnearyou
CATEGORIES:
DESCRIPTION:Morning prayer using the pattern from Common worship. There ar
 e hymns and a sermon. Children are welcome. There is  a children's corner 
 and 'busy bags' to take to the pew\, but children are not specifically loo
 ked after in a separate provision.
GEO:-2.978861;53.332895
LOCATION:St Barnabas Bromborough
URL:https://www.achurchnearyou.com/church/12712/service-and-events/events/
 660701/
END:VEVENT
BEGIN:VEVENT
SUMMARY:9.15 am Morning Prayer
DTSTART;TZID=Europe/London:20261122T091500
DTEND;TZID=Europe/London:20261122T101500
DTSTAMP:20260423T090949Z
UID:6607012026-11-22 09:15:00+00:00achurchnearyou
CATEGORIES:
DESCRIPTION:Morning prayer using the pattern from Common worship. There ar
 e hymns and a sermon. Children are welcome. There is  a children's corner 
 and 'busy bags' to take to the pew\, but children are not specifically loo
 ked after in a separate provision.
GEO:-2.978861;53.332895
LOCATION:St Barnabas Bromborough
URL:https://www.achurchnearyou.com/church/12712/service-and-events/events/
 660701/
END:VEVENT
BEGIN:VEVENT
SUMMARY:9.15 am Morning Prayer
DTSTART;TZID=Europe/London:20261227T091500
DTEND;TZID=Europe/London:20261227T101500
DTSTAMP:20260423T090949Z
UID:6607012026-12-27 09:15:00+00:00achurchnearyou
CATEGORIES:
DESCRIPTION:Morning prayer using the pattern from Common worship. There ar
 e hymns and a sermon. Children are welcome. There is  a children's corner 
 and 'busy bags' to take to the pew\, but children are not specifically loo
 ked after in a separate provision.
GEO:-2.978861;53.332895
LOCATION:St Barnabas Bromborough
URL:https://www.achurchnearyou.com/church/12712/service-and-events/events/
 660701/
END:VEVENT
BEGIN:VEVENT
SUMMARY:9.15 am Morning Prayer
DTSTART;TZID=Europe/London:20270124T091500
DTEND;TZID=Europe/London:20270124T101500
DTSTAMP:20260423T090949Z
UID:6607012027-01-24 09:15:00+00:00achurchnearyou
CATEGORIES:
DESCRIPTION:Morning prayer using the pattern from Common worship. There ar
 e hymns and a sermon. Children are welcome. There is  a children's corner 
 and 'busy bags' to take to the pew\, but children are not specifically loo
 ked after in a separate provision.
GEO:-2.978861;53.332895
LOCATION:St Barnabas Bromborough
URL:https://www.achurchnearyou.com/church/12712/service-and-events/events/
 660701/
END:VEVENT
BEGIN:VEVENT
SUMMARY:9.15 am Morning Prayer
DTSTART;TZID=Europe/London:20270228T091500
DTEND;TZID=Europe/London:20270228T101500
DTSTAMP:20260423T090949Z
UID:6607012027-02-28 09:15:00+00:00achurchnearyou
CATEGORIES:
DESCRIPTION:Morning prayer using the pattern from Common worship. There ar
 e hymns and a sermon. Children are welcome. There is  a children's corner 
 and 'busy bags' to take to the pew\, but children are not specifically loo
 ked after in a separate provision.
GEO:-2.978861;53.332895
LOCATION:St Barnabas Bromborough
URL:https://www.achurchnearyou.com/church/12712/service-and-events/events/
 660701/
END:VEVENT
BEGIN:VEVENT
SUMMARY:9.15 am Morning Prayer
DTSTART;TZID=Europe/London:20270328T091500
DTEND;TZID=Europe/London:20270328T101500
DTSTAMP:20260423T090949Z
UID:6607012027-03-28 09:15:00+01:00achurchnearyou
CATEGORIES:
DESCRIPTION:Morning prayer using the pattern from Common worship. There ar
 e hymns and a sermon. Children are welcome. There is  a children's corner 
 and 'busy bags' to take to the pew\, but children are not specifically loo
 ked after in a separate provision.
GEO:-2.978861;53.332895
LOCATION:St Barnabas Bromborough
URL:https://www.achurchnearyou.com/church/12712/service-and-events/events/
 660701/
END:VEVENT
END:VCALENDAR
