BEGIN:VCALENDAR
VERSION:2.0
PRODID:-//achurchnearyou.com//eventfeed//EN
CALSCALE:GREGORIAN
METHOD:PUBLISH
X-WR-TIMEZONE:UTC
BEGIN:VEVENT
SUMMARY:Morning Praise
DTSTART:20250223T100000Z
DTEND:20250223T110000Z
DTSTAMP:20260424T122449Z
UID:11539592025-02-23 10:00:00+00:00achurchnearyou
CATEGORIES:
DESCRIPTION:Morning service from Common Worship\nLed by Rob Brook\, Lay Re
 ader
GEO:-2.955194;53.227191
LOCATION:All Saints Church\, Saughall
URL:https://www.achurchnearyou.com/church/12724/service-and-events/events/
 1153959/
END:VEVENT
END:VCALENDAR
