BEGIN:VCALENDAR
VERSION:2.0
PRODID:-//achurchnearyou.com//eventfeed//EN
CALSCALE:GREGORIAN
METHOD:PUBLISH
X-WR-TIMEZONE:UTC
BEGIN:VEVENT
SUMMARY:Family Praise Service
DTSTART:20250316T100000Z
DTEND:20250316T110000Z
DTSTAMP:20260424T105555Z
UID:11647782025-03-16 10:00:00+00:00achurchnearyou
CATEGORIES:
DESCRIPTION:Altogther Praise\, an all-age family service with contemporary
  songs.\nLed by  Rev'd Alan Dawson and church members.\nRefreshments serve
 d afterwards
GEO:-2.955194;53.227191
LOCATION:All Saints Church\, Saughall
URL:https://www.achurchnearyou.com/church/12724/service-and-events/events/
 1164778/
END:VEVENT
END:VCALENDAR
