BEGIN:VCALENDAR
VERSION:2.0
PRODID:-//achurchnearyou.com//eventfeed//EN
CALSCALE:GREGORIAN
METHOD:PUBLISH
X-WR-TIMEZONE:UTC
BEGIN:VEVENT
SUMMARY:Harvest Festival Altogether Praise
DTSTART:20251012T090000Z
DTEND:20251012T100000Z
DTSTAMP:20260423T230533Z
UID:12298282025-10-12 09:00:00+00:00achurchnearyou
CATEGORIES:
DESCRIPTION:All age service led by Rev. Gaz Thomas\, Associate Minister an
 d members of the church.\nDonations of food (dry goods\, cans\, no perisha
 bles\, hygeine products) will go to Save the Family.
GEO:-2.955194;53.227191
LOCATION:All Saints Church\, Saughall
URL:https://www.achurchnearyou.com/church/12724/service-and-events/events/
 1229828/
END:VEVENT
END:VCALENDAR
