BEGIN:VCALENDAR
VERSION:2.0
PRODID:-//achurchnearyou.com//eventfeed//EN
CALSCALE:GREGORIAN
METHOD:PUBLISH
X-WR-TIMEZONE:UTC
BEGIN:VEVENT
SUMMARY:All age nativity service
DTSTART:20251221T100000Z
DTEND:20251221T110000Z
DTSTAMP:20260423T224257Z
UID:12574572025-12-21 10:00:00+00:00achurchnearyou
CATEGORIES:
DESCRIPTION:Led by Rev'd Canon Gordon McGuinness\, Parish Support Minister
 \, with participation from everyone. Dress up\, come prepared to have a tr
 emendous fun time giving thanks for the birth of our saviour Jesus. Mince 
 pies\, tea\, coffee\, squash\, etc.\, served afterwards.
GEO:-2.955194;53.227191
LOCATION:All Saints Church\, Saughall
URL:https://www.achurchnearyou.com/church/12724/service-and-events/events/
 1257457/
END:VEVENT
END:VCALENDAR
