BEGIN:VCALENDAR
VERSION:2.0
PRODID:-//achurchnearyou.com//eventfeed//EN
CALSCALE:GREGORIAN
METHOD:PUBLISH
X-WR-TIMEZONE:UTC
BEGIN:VEVENT
SUMMARY:Congregation led morning service
DTSTART:20251228T100000Z
DTEND:20251228T110000Z
DTSTAMP:20260423T180643Z
UID:12574592025-12-28 10:00:00+00:00achurchnearyou
CATEGORIES:
DESCRIPTION:Informal morning service led by members of the congregation.\n
 Refreshmemts served afterwards.
GEO:-2.955194;53.227191
LOCATION:All Saints Church\, Saughall
URL:https://www.achurchnearyou.com/church/12724/service-and-events/events/
 1257459/
END:VEVENT
END:VCALENDAR
