BEGIN:VCALENDAR
VERSION:2.0
PRODID:-//achurchnearyou.com//eventfeed//EN
CALSCALE:GREGORIAN
METHOD:PUBLISH
X-WR-TIMEZONE:UTC
BEGIN:VEVENT
SUMMARY:Parish Communion
DTSTART:20260322T100000Z
DTEND:20260322T110000Z
DTSTAMP:20260423T190908Z
UID:12957262026-03-22 10:00:00+00:00achurchnearyou
CATEGORIES:
DESCRIPTION:Led by Rev'd Fran Skinner\, visiting minister.\nCommon Worship
 .\nRefreshments served afterwards.
GEO:-2.955194;53.227191
LOCATION:All Saints Church\, Saughall
URL:https://www.achurchnearyou.com/church/12724/service-and-events/events/
 1295726/
END:VEVENT
END:VCALENDAR
