BEGIN:VCALENDAR
VERSION:2.0
PRODID:-//achurchnearyou.com//eventfeed//EN
CALSCALE:GREGORIAN
METHOD:PUBLISH
X-WR-TIMEZONE:UTC
BEGIN:VEVENT
SUMMARY:Good Friday Three Hours at the Cross
DTSTART:20250418T110000Z
DTEND:20250418T140000Z
DTSTAMP:20260424T182123Z
UID:11813652025-04-18 11:00:00+00:00achurchnearyou
CATEGORIES:
DESCRIPTION:Good Friday: A strange term perhaps for a day when Christ died
  on the cross.\n\nAs is traditional\, we’ll be gathering together for ou
 r 3 Hour Vigil of readings\, reflections and music interspersed with silen
 ce and contemplation.\n\nThere is no expectation for you to stay for the w
 hole three hours\, so do come along as best works for you.
GEO:-2.351418;53.390085
LOCATION:St George
URL:https://www.stgeorgesaltrincham.org/easter-2025/
END:VEVENT
END:VCALENDAR
