BEGIN:VCALENDAR
VERSION:2.0
PRODID:-//achurchnearyou.com//eventfeed//EN
CALSCALE:GREGORIAN
METHOD:PUBLISH
X-WR-TIMEZONE:UTC
BEGIN:VEVENT
SUMMARY:Holy Week Eucharists
DTSTART;TZID=Europe/London:20250414T120000
DTEND;TZID=Europe/London:20250414T123000
DTSTAMP:20260424T225226Z
UID:11813702025-04-14 12:00:00+01:00achurchnearyou
CATEGORIES:
DESCRIPTION:In addition to our normal Mid-Week Eucharist on Wednesdays at 
 10am\, this week we gather for two additional Eucharists. Simple\, friendl
 y and dignified\, they will last around 25 minutes and you are very welcom
 e to be a part of them.
GEO:-2.351418;53.390085
LOCATION:St George
URL:https://www.stgeorgesaltrincham.org/easter-2025/
END:VEVENT
BEGIN:VEVENT
SUMMARY:Holy Week Eucharists
DTSTART;TZID=Europe/London:20250415T120000
DTEND;TZID=Europe/London:20250415T123000
DTSTAMP:20260424T225226Z
UID:11813702025-04-15 12:00:00+01:00achurchnearyou
CATEGORIES:
DESCRIPTION:In addition to our normal Mid-Week Eucharist on Wednesdays at 
 10am\, this week we gather for two additional Eucharists. Simple\, friendl
 y and dignified\, they will last around 25 minutes and you are very welcom
 e to be a part of them.
GEO:-2.351418;53.390085
LOCATION:St George
URL:https://www.stgeorgesaltrincham.org/easter-2025/
END:VEVENT
END:VCALENDAR
