BEGIN:VCALENDAR
VERSION:2.0
PRODID:-//achurchnearyou.com//eventfeed//EN
CALSCALE:GREGORIAN
METHOD:PUBLISH
X-WR-TIMEZONE:UTC
BEGIN:VEVENT
SUMMARY:Harvest Supper & Barn Dance!
DTSTART:20251004T170000Z
DTEND:20251004T190000Z
DTSTAMP:20260424T030810Z
UID:12141002025-10-04 17:00:00+00:00achurchnearyou
CATEGORIES:
DESCRIPTION:Date for your Diary: The social event of the year — or at le
 ast the season! An evening filled with laughter and—new this year—a li
 vely barn dance!\nPicture a hall decked out with bunting and straw bales\,
  buzzing with joy as we share a hearty meal and enjoy some dancing togethe
 r.\nNot a dancer? No worries! You can happily sit back and watch—it’s 
 just as much fun!  Tickets are £5 for adults and £3 for children. If the
  cost is a concern\, please do get in touch—we really want you to be the
 re!\n\nGet tickets here: www.ticketsource.co.uk/st-georges-church-altrinch
 am
GEO:-2.351418;53.390085
LOCATION:St George
URL:https://www.stgeorgesaltrincham.org/
END:VEVENT
END:VCALENDAR
