BEGIN:VCALENDAR
VERSION:2.0
PRODID:-//achurchnearyou.com//eventfeed//EN
CALSCALE:GREGORIAN
METHOD:PUBLISH
X-WR-TIMEZONE:UTC
BEGIN:VEVENT
SUMMARY:Pop-Up Nativity!
DTSTART:20251214T160000Z
DTEND:20251214T170000Z
DTSTAMP:20260423T205915Z
UID:12141122025-12-14 16:00:00+00:00achurchnearyou
CATEGORIES:
DESCRIPTION:Get Ready for a Nativity Like No Other!\nIt’s lively\, it’
 s fun\, and yes — it even features a real-life donkey! Join us for a tru
 ly unforgettable Nativity experience that brings the Christmas story to li
 fe in the most joyful way.\nCome dressed as your favourite Nativity charac
 ter—or if you prefer\, borrow one of our costumes! And don’t worry\, a
 dults are \nmore than welcome to join in the fun too. In fact\, action her
 oes and unexpected characters are more than invited—you’d be amazed ho
 w wonderfully they fit into our Nativity story!\nWhether you’re a shephe
 rd\, an angel\, a king\, or a superhero\, come ready to be amazed and to c
 elebrate the true wonder of Christmas together.\nBring your family\, bring
  your friends—and get ready for a joyful\, heart warming \ncelebration t
 hat everyone will remember!
GEO:-2.351418;53.390085
LOCATION:St George
URL:https://www.stgeorgesaltrincham.org/
END:VEVENT
END:VCALENDAR
