BEGIN:VCALENDAR
VERSION:2.0
PRODID:-//achurchnearyou.com//eventfeed//EN
CALSCALE:GREGORIAN
METHOD:PUBLISH
X-WR-TIMEZONE:UTC
BEGIN:VEVENT
SUMMARY:Children's Party!
DTSTART:20251214T173000Z
DTEND:20251214T183000Z
DTSTAMP:20260423T205449Z
UID:12141132025-12-14 17:30:00+00:00achurchnearyou
CATEGORIES:
DESCRIPTION:Hall: Booked\nChildren’s party hosts: Booked\nFood: Ordered\
 nMadness & Fun: Guaranteed!\nWhat better way to get your children into the
  Christmas spirit than with this fabulous festive party?\nJoin Dee & Nick 
 for the party of the year! With exciting games\, lively music\, tasty food
 \, and a special visit from Santa himself\, it’s the \nperfect chance fo
 r your little ones to have a blast\, get messy\, and leave the tidying up 
 to us!\nDesigned for primary-aged children (Reception and above)\, but you
 nger siblings are very welcome too. Places are just £5 per child (accompa
 nying adults come free). And as always\, if money’s tight\, please don
 ’t hesitate to get in touch—we want everyone to join in the fun!\nCome
  along\, make memories\, and kick off Christmas in the best possible way! 
   \nBook here: www.ticketsource.co.uk/st-georges-church-altrincham\nWe are
  anticipating this to be very busy\, so get your tickets below before they
  all sell out!
GEO:-2.351418;53.390085
LOCATION:St George
URL:https://www.stgeorgesaltrincham.org/
END:VEVENT
END:VCALENDAR
