BEGIN:VCALENDAR
VERSION:2.0
PRODID:-//achurchnearyou.com//eventfeed//EN
CALSCALE:GREGORIAN
METHOD:PUBLISH
X-WR-TIMEZONE:UTC
BEGIN:VEVENT
SUMMARY:Christingle Making Party!
DTSTART:20251223T113000Z
DTEND:20251223T123000Z
DTSTAMP:20260423T165009Z
UID:12141192025-12-23 11:30:00+00:00achurchnearyou
CATEGORIES:
DESCRIPTION:🎄✨ You're Invited to Our Christingle Making Party! ✨
 🎄\n\nCome and join us for a heart warming\, joy-filled afternoon of Chr
 istingle fun at St George's! 🕯🍊\n\nWhether you're young or young at 
 heart\, this is a perfect event for families and children to get into the 
 festive spirit. We’ll provide all the bits and bobs to make your own bea
 utiful Christingle\, and there’ll be plenty of crafts\, music and treats
  to go around! ☕🍪🎶\n\nEveryone is welcome – bring your friends\,
  neighbours\, and plenty of Christmas cheer! 🎉
GEO:-2.351418;53.390085
LOCATION:St George
URL:https://www.stgeorgesaltrincham.org/
END:VEVENT
END:VCALENDAR
