BEGIN:VCALENDAR
VERSION:2.0
PRODID:-//achurchnearyou.com//eventfeed//EN
CALSCALE:GREGORIAN
METHOD:PUBLISH
X-WR-TIMEZONE:UTC
BEGIN:VEVENT
SUMMARY:The Big Lunch!
DTSTART:20260607T103000Z
DTEND:20260607T143000Z
DTSTAMP:20260422T234400Z
UID:13252702026-06-07 10:30:00+00:00achurchnearyou
CATEGORIES:
DESCRIPTION:On Sunday 7th June we can’t wait to join the Big Lunch in th
 e park! It’s going to be a fantastic community day with music\, games\, 
 activities\, demonstrations\, football\, bowls\, ice-cream and plenty more
 .\n\nWhether you want to join in the fun\, soak up the atmosphere\, or sim
 ply pop over and say hello\, we’d love to see you. It’s a wonderful op
 portunity to spend time together and celebrate our local community.\n\nBri
 ng family\, friends\, or just yourself — everyone is welcome. See you th
 ere!
LOCATION:John Leigh Park
URL:https://perch-mauve-284h.squarespace.com/config/pages/69a963644d045d72
 053d4572
END:VEVENT
END:VCALENDAR
