BEGIN:VCALENDAR
VERSION:2.0
PRODID:-//achurchnearyou.com//eventfeed//EN
CALSCALE:GREGORIAN
METHOD:PUBLISH
X-WR-TIMEZONE:UTC
BEGIN:VEVENT
SUMMARY:Confirmations
DTSTART:20260621T083000Z
DTEND:20260621T094500Z
DTSTAMP:20260422T234356Z
UID:13252722026-06-21 08:30:00+00:00achurchnearyou
CATEGORIES:
DESCRIPTION:Each year we celebrate the wonderful moment of Confirmation 
 – and we’d love you to be part of it.\n\nConfirmation is a joyful and 
 significant step in the Christian journey. It’s an opportunity to affirm
  for yourself the promises made at your baptism – whether those promises
  were made by you as an adult\, or by parents and godparents when you were
  younger.\n\nIt’s for people of all ages and stages. Some have grown up 
 in the Church\; others have discovered faith more recently. Wherever you f
 ind yourself\, Confirmation is a chance to say “yes” to God in a perso
 nal and meaningful way.\n\nIt doesn’t mean you have all the answers\, or
  that your faith is perfect or complete. None of us does. Instead\, it’s
  about taking a step forward – marking a moment in your journey and bein
 g prayed for and encouraged as you continue to grow in faith.\n\nIf you or
  your child (usually from Year 6 upwards) would like to explore this next 
 step\, we would be delighted to hear from you.
GEO:-2.351418;53.390085
LOCATION:St George
URL:https://www.stgeorgesaltrincham.org/spring-summer-2026/confirmations
END:VEVENT
END:VCALENDAR
