BEGIN:VCALENDAR
VERSION:2.0
PRODID:-//achurchnearyou.com//eventfeed//EN
CALSCALE:GREGORIAN
METHOD:PUBLISH
X-WR-TIMEZONE:UTC
BEGIN:VEVENT
SUMMARY:Women's Group
DTSTART;TZID=Europe/London:20221102T020000
DTEND;TZID=Europe/London:20221102T033000
DTSTAMP:20260423T042007Z
UID:8641712022-11-02 02:00:00+00:00achurchnearyou
CATEGORIES:
DESCRIPTION:Come along to this friendly group and get involved with projec
 ts that seek to help those in need.
GEO:-2.351418;53.390085
LOCATION:St George
URL:http://www.stgeorgesaltrincham.org/
END:VEVENT
BEGIN:VEVENT
SUMMARY:Women's Group
DTSTART;TZID=Europe/London:20221207T020000
DTEND;TZID=Europe/London:20221207T033000
DTSTAMP:20260423T042007Z
UID:8641712022-12-07 02:00:00+00:00achurchnearyou
CATEGORIES:
DESCRIPTION:Come along to this friendly group and get involved with projec
 ts that seek to help those in need.
GEO:-2.351418;53.390085
LOCATION:St George
URL:http://www.stgeorgesaltrincham.org/
END:VEVENT
BEGIN:VEVENT
SUMMARY:Women's Group
DTSTART;TZID=Europe/London:20230104T020000
DTEND;TZID=Europe/London:20230104T033000
DTSTAMP:20260423T042007Z
UID:8641712023-01-04 02:00:00+00:00achurchnearyou
CATEGORIES:
DESCRIPTION:Come along to this friendly group and get involved with projec
 ts that seek to help those in need.
GEO:-2.351418;53.390085
LOCATION:St George
URL:http://www.stgeorgesaltrincham.org/
END:VEVENT
BEGIN:VEVENT
SUMMARY:Women's Group
DTSTART;TZID=Europe/London:20230201T020000
DTEND;TZID=Europe/London:20230201T033000
DTSTAMP:20260423T042007Z
UID:8641712023-02-01 02:00:00+00:00achurchnearyou
CATEGORIES:
DESCRIPTION:Come along to this friendly group and get involved with projec
 ts that seek to help those in need.
GEO:-2.351418;53.390085
LOCATION:St George
URL:http://www.stgeorgesaltrincham.org/
END:VEVENT
BEGIN:VEVENT
SUMMARY:Women's Group
DTSTART;TZID=Europe/London:20230301T020000
DTEND;TZID=Europe/London:20230301T033000
DTSTAMP:20260423T042007Z
UID:8641712023-03-01 02:00:00+00:00achurchnearyou
CATEGORIES:
DESCRIPTION:Come along to this friendly group and get involved with projec
 ts that seek to help those in need.
GEO:-2.351418;53.390085
LOCATION:St George
URL:http://www.stgeorgesaltrincham.org/
END:VEVENT
BEGIN:VEVENT
SUMMARY:Women's Group
DTSTART;TZID=Europe/London:20230405T020000
DTEND;TZID=Europe/London:20230405T033000
DTSTAMP:20260423T042007Z
UID:8641712023-04-05 02:00:00+01:00achurchnearyou
CATEGORIES:
DESCRIPTION:Come along to this friendly group and get involved with projec
 ts that seek to help those in need.
GEO:-2.351418;53.390085
LOCATION:St George
URL:http://www.stgeorgesaltrincham.org/
END:VEVENT
BEGIN:VEVENT
SUMMARY:Women's Group
DTSTART;TZID=Europe/London:20230503T020000
DTEND;TZID=Europe/London:20230503T033000
DTSTAMP:20260423T042007Z
UID:8641712023-05-03 02:00:00+01:00achurchnearyou
CATEGORIES:
DESCRIPTION:Come along to this friendly group and get involved with projec
 ts that seek to help those in need.
GEO:-2.351418;53.390085
LOCATION:St George
URL:http://www.stgeorgesaltrincham.org/
END:VEVENT
BEGIN:VEVENT
SUMMARY:Women's Group
DTSTART;TZID=Europe/London:20230607T020000
DTEND;TZID=Europe/London:20230607T033000
DTSTAMP:20260423T042007Z
UID:8641712023-06-07 02:00:00+01:00achurchnearyou
CATEGORIES:
DESCRIPTION:Come along to this friendly group and get involved with projec
 ts that seek to help those in need.
GEO:-2.351418;53.390085
LOCATION:St George
URL:http://www.stgeorgesaltrincham.org/
END:VEVENT
BEGIN:VEVENT
SUMMARY:Women's Group
DTSTART;TZID=Europe/London:20230705T020000
DTEND;TZID=Europe/London:20230705T033000
DTSTAMP:20260423T042007Z
UID:8641712023-07-05 02:00:00+01:00achurchnearyou
CATEGORIES:
DESCRIPTION:Come along to this friendly group and get involved with projec
 ts that seek to help those in need.
GEO:-2.351418;53.390085
LOCATION:St George
URL:http://www.stgeorgesaltrincham.org/
END:VEVENT
BEGIN:VEVENT
SUMMARY:Women's Group
DTSTART;TZID=Europe/London:20230802T020000
DTEND;TZID=Europe/London:20230802T033000
DTSTAMP:20260423T042007Z
UID:8641712023-08-02 02:00:00+01:00achurchnearyou
CATEGORIES:
DESCRIPTION:Come along to this friendly group and get involved with projec
 ts that seek to help those in need.
GEO:-2.351418;53.390085
LOCATION:St George
URL:http://www.stgeorgesaltrincham.org/
END:VEVENT
BEGIN:VEVENT
SUMMARY:Women's Group
DTSTART;TZID=Europe/London:20230906T020000
DTEND;TZID=Europe/London:20230906T033000
DTSTAMP:20260423T042007Z
UID:8641712023-09-06 02:00:00+01:00achurchnearyou
CATEGORIES:
DESCRIPTION:Come along to this friendly group and get involved with projec
 ts that seek to help those in need.
GEO:-2.351418;53.390085
LOCATION:St George
URL:http://www.stgeorgesaltrincham.org/
END:VEVENT
BEGIN:VEVENT
SUMMARY:Women's Group
DTSTART;TZID=Europe/London:20231004T020000
DTEND;TZID=Europe/London:20231004T033000
DTSTAMP:20260423T042007Z
UID:8641712023-10-04 02:00:00+01:00achurchnearyou
CATEGORIES:
DESCRIPTION:Come along to this friendly group and get involved with projec
 ts that seek to help those in need.
GEO:-2.351418;53.390085
LOCATION:St George
URL:http://www.stgeorgesaltrincham.org/
END:VEVENT
BEGIN:VEVENT
SUMMARY:Women's Group
DTSTART;TZID=Europe/London:20231101T020000
DTEND;TZID=Europe/London:20231101T033000
DTSTAMP:20260423T042007Z
UID:8641712023-11-01 02:00:00+00:00achurchnearyou
CATEGORIES:
DESCRIPTION:Come along to this friendly group and get involved with projec
 ts that seek to help those in need.
GEO:-2.351418;53.390085
LOCATION:St George
URL:http://www.stgeorgesaltrincham.org/
END:VEVENT
BEGIN:VEVENT
SUMMARY:Women's Group
DTSTART;TZID=Europe/London:20231206T020000
DTEND;TZID=Europe/London:20231206T033000
DTSTAMP:20260423T042007Z
UID:8641712023-12-06 02:00:00+00:00achurchnearyou
CATEGORIES:
DESCRIPTION:Come along to this friendly group and get involved with projec
 ts that seek to help those in need.
GEO:-2.351418;53.390085
LOCATION:St George
URL:http://www.stgeorgesaltrincham.org/
END:VEVENT
BEGIN:VEVENT
SUMMARY:Women's Group
DTSTART;TZID=Europe/London:20240103T020000
DTEND;TZID=Europe/London:20240103T033000
DTSTAMP:20260423T042007Z
UID:8641712024-01-03 02:00:00+00:00achurchnearyou
CATEGORIES:
DESCRIPTION:Come along to this friendly group and get involved with projec
 ts that seek to help those in need.
GEO:-2.351418;53.390085
LOCATION:St George
URL:http://www.stgeorgesaltrincham.org/
END:VEVENT
BEGIN:VEVENT
SUMMARY:Women's Group
DTSTART;TZID=Europe/London:20240207T020000
DTEND;TZID=Europe/London:20240207T033000
DTSTAMP:20260423T042007Z
UID:8641712024-02-07 02:00:00+00:00achurchnearyou
CATEGORIES:
DESCRIPTION:Come along to this friendly group and get involved with projec
 ts that seek to help those in need.
GEO:-2.351418;53.390085
LOCATION:St George
URL:http://www.stgeorgesaltrincham.org/
END:VEVENT
BEGIN:VEVENT
SUMMARY:Women's Group
DTSTART;TZID=Europe/London:20240306T020000
DTEND;TZID=Europe/London:20240306T033000
DTSTAMP:20260423T042007Z
UID:8641712024-03-06 02:00:00+00:00achurchnearyou
CATEGORIES:
DESCRIPTION:Come along to this friendly group and get involved with projec
 ts that seek to help those in need.
GEO:-2.351418;53.390085
LOCATION:St George
URL:http://www.stgeorgesaltrincham.org/
END:VEVENT
BEGIN:VEVENT
SUMMARY:Women's Group
DTSTART;TZID=Europe/London:20240403T020000
DTEND;TZID=Europe/London:20240403T033000
DTSTAMP:20260423T042007Z
UID:8641712024-04-03 02:00:00+01:00achurchnearyou
CATEGORIES:
DESCRIPTION:Come along to this friendly group and get involved with projec
 ts that seek to help those in need.
GEO:-2.351418;53.390085
LOCATION:St George
URL:http://www.stgeorgesaltrincham.org/
END:VEVENT
BEGIN:VEVENT
SUMMARY:Women's Group
DTSTART;TZID=Europe/London:20240501T020000
DTEND;TZID=Europe/London:20240501T033000
DTSTAMP:20260423T042007Z
UID:8641712024-05-01 02:00:00+01:00achurchnearyou
CATEGORIES:
DESCRIPTION:Come along to this friendly group and get involved with projec
 ts that seek to help those in need.
GEO:-2.351418;53.390085
LOCATION:St George
URL:http://www.stgeorgesaltrincham.org/
END:VEVENT
BEGIN:VEVENT
SUMMARY:Women's Group
DTSTART;TZID=Europe/London:20240605T020000
DTEND;TZID=Europe/London:20240605T033000
DTSTAMP:20260423T042007Z
UID:8641712024-06-05 02:00:00+01:00achurchnearyou
CATEGORIES:
DESCRIPTION:Come along to this friendly group and get involved with projec
 ts that seek to help those in need.
GEO:-2.351418;53.390085
LOCATION:St George
URL:http://www.stgeorgesaltrincham.org/
END:VEVENT
BEGIN:VEVENT
SUMMARY:Women's Group
DTSTART;TZID=Europe/London:20240703T020000
DTEND;TZID=Europe/London:20240703T033000
DTSTAMP:20260423T042007Z
UID:8641712024-07-03 02:00:00+01:00achurchnearyou
CATEGORIES:
DESCRIPTION:Come along to this friendly group and get involved with projec
 ts that seek to help those in need.
GEO:-2.351418;53.390085
LOCATION:St George
URL:http://www.stgeorgesaltrincham.org/
END:VEVENT
BEGIN:VEVENT
SUMMARY:Women's Group
DTSTART;TZID=Europe/London:20240807T020000
DTEND;TZID=Europe/London:20240807T033000
DTSTAMP:20260423T042007Z
UID:8641712024-08-07 02:00:00+01:00achurchnearyou
CATEGORIES:
DESCRIPTION:Come along to this friendly group and get involved with projec
 ts that seek to help those in need.
GEO:-2.351418;53.390085
LOCATION:St George
URL:http://www.stgeorgesaltrincham.org/
END:VEVENT
BEGIN:VEVENT
SUMMARY:Women's Group
DTSTART;TZID=Europe/London:20240904T020000
DTEND;TZID=Europe/London:20240904T033000
DTSTAMP:20260423T042007Z
UID:8641712024-09-04 02:00:00+01:00achurchnearyou
CATEGORIES:
DESCRIPTION:Come along to this friendly group and get involved with projec
 ts that seek to help those in need.
GEO:-2.351418;53.390085
LOCATION:St George
URL:http://www.stgeorgesaltrincham.org/
END:VEVENT
BEGIN:VEVENT
SUMMARY:Women's Group
DTSTART;TZID=Europe/London:20241002T020000
DTEND;TZID=Europe/London:20241002T033000
DTSTAMP:20260423T042007Z
UID:8641712024-10-02 02:00:00+01:00achurchnearyou
CATEGORIES:
DESCRIPTION:Come along to this friendly group and get involved with projec
 ts that seek to help those in need.
GEO:-2.351418;53.390085
LOCATION:St George
URL:http://www.stgeorgesaltrincham.org/
END:VEVENT
BEGIN:VEVENT
SUMMARY:Women's Group
DTSTART;TZID=Europe/London:20241106T020000
DTEND;TZID=Europe/London:20241106T033000
DTSTAMP:20260423T042007Z
UID:8641712024-11-06 02:00:00+00:00achurchnearyou
CATEGORIES:
DESCRIPTION:Come along to this friendly group and get involved with projec
 ts that seek to help those in need.
GEO:-2.351418;53.390085
LOCATION:St George
URL:http://www.stgeorgesaltrincham.org/
END:VEVENT
BEGIN:VEVENT
SUMMARY:Women's Group
DTSTART;TZID=Europe/London:20241204T020000
DTEND;TZID=Europe/London:20241204T033000
DTSTAMP:20260423T042007Z
UID:8641712024-12-04 02:00:00+00:00achurchnearyou
CATEGORIES:
DESCRIPTION:Come along to this friendly group and get involved with projec
 ts that seek to help those in need.
GEO:-2.351418;53.390085
LOCATION:St George
URL:http://www.stgeorgesaltrincham.org/
END:VEVENT
BEGIN:VEVENT
SUMMARY:Women's Group
DTSTART;TZID=Europe/London:20250101T020000
DTEND;TZID=Europe/London:20250101T033000
DTSTAMP:20260423T042007Z
UID:8641712025-01-01 02:00:00+00:00achurchnearyou
CATEGORIES:
DESCRIPTION:Come along to this friendly group and get involved with projec
 ts that seek to help those in need.
GEO:-2.351418;53.390085
LOCATION:St George
URL:http://www.stgeorgesaltrincham.org/
END:VEVENT
BEGIN:VEVENT
SUMMARY:Women's Group
DTSTART;TZID=Europe/London:20250205T020000
DTEND;TZID=Europe/London:20250205T033000
DTSTAMP:20260423T042007Z
UID:8641712025-02-05 02:00:00+00:00achurchnearyou
CATEGORIES:
DESCRIPTION:Come along to this friendly group and get involved with projec
 ts that seek to help those in need.
GEO:-2.351418;53.390085
LOCATION:St George
URL:http://www.stgeorgesaltrincham.org/
END:VEVENT
BEGIN:VEVENT
SUMMARY:Women's Group
DTSTART;TZID=Europe/London:20250305T020000
DTEND;TZID=Europe/London:20250305T033000
DTSTAMP:20260423T042007Z
UID:8641712025-03-05 02:00:00+00:00achurchnearyou
CATEGORIES:
DESCRIPTION:Come along to this friendly group and get involved with projec
 ts that seek to help those in need.
GEO:-2.351418;53.390085
LOCATION:St George
URL:http://www.stgeorgesaltrincham.org/
END:VEVENT
BEGIN:VEVENT
SUMMARY:Women's Group
DTSTART;TZID=Europe/London:20250402T020000
DTEND;TZID=Europe/London:20250402T033000
DTSTAMP:20260423T042007Z
UID:8641712025-04-02 02:00:00+01:00achurchnearyou
CATEGORIES:
DESCRIPTION:Come along to this friendly group and get involved with projec
 ts that seek to help those in need.
GEO:-2.351418;53.390085
LOCATION:St George
URL:http://www.stgeorgesaltrincham.org/
END:VEVENT
BEGIN:VEVENT
SUMMARY:Women's Group
DTSTART;TZID=Europe/London:20250507T020000
DTEND;TZID=Europe/London:20250507T033000
DTSTAMP:20260423T042007Z
UID:8641712025-05-07 02:00:00+01:00achurchnearyou
CATEGORIES:
DESCRIPTION:Come along to this friendly group and get involved with projec
 ts that seek to help those in need.
GEO:-2.351418;53.390085
LOCATION:St George
URL:http://www.stgeorgesaltrincham.org/
END:VEVENT
BEGIN:VEVENT
SUMMARY:Women's Group
DTSTART;TZID=Europe/London:20250604T020000
DTEND;TZID=Europe/London:20250604T033000
DTSTAMP:20260423T042007Z
UID:8641712025-06-04 02:00:00+01:00achurchnearyou
CATEGORIES:
DESCRIPTION:Come along to this friendly group and get involved with projec
 ts that seek to help those in need.
GEO:-2.351418;53.390085
LOCATION:St George
URL:http://www.stgeorgesaltrincham.org/
END:VEVENT
BEGIN:VEVENT
SUMMARY:Women's Group
DTSTART;TZID=Europe/London:20250702T020000
DTEND;TZID=Europe/London:20250702T033000
DTSTAMP:20260423T042007Z
UID:8641712025-07-02 02:00:00+01:00achurchnearyou
CATEGORIES:
DESCRIPTION:Come along to this friendly group and get involved with projec
 ts that seek to help those in need.
GEO:-2.351418;53.390085
LOCATION:St George
URL:http://www.stgeorgesaltrincham.org/
END:VEVENT
BEGIN:VEVENT
SUMMARY:Women's Group
DTSTART;TZID=Europe/London:20250903T020000
DTEND;TZID=Europe/London:20250903T033000
DTSTAMP:20260423T042007Z
UID:8641712025-09-03 02:00:00+01:00achurchnearyou
CATEGORIES:
DESCRIPTION:Come along to this friendly group and get involved with projec
 ts that seek to help those in need.
GEO:-2.351418;53.390085
LOCATION:St George
URL:http://www.stgeorgesaltrincham.org/
END:VEVENT
BEGIN:VEVENT
SUMMARY:Women's Group
DTSTART;TZID=Europe/London:20251001T020000
DTEND;TZID=Europe/London:20251001T033000
DTSTAMP:20260423T042007Z
UID:8641712025-10-01 02:00:00+01:00achurchnearyou
CATEGORIES:
DESCRIPTION:Come along to this friendly group and get involved with projec
 ts that seek to help those in need.
GEO:-2.351418;53.390085
LOCATION:St George
URL:http://www.stgeorgesaltrincham.org/
END:VEVENT
BEGIN:VEVENT
SUMMARY:Women's Group
DTSTART;TZID=Europe/London:20251105T020000
DTEND;TZID=Europe/London:20251105T033000
DTSTAMP:20260423T042007Z
UID:8641712025-11-05 02:00:00+00:00achurchnearyou
CATEGORIES:
DESCRIPTION:Come along to this friendly group and get involved with projec
 ts that seek to help those in need.
GEO:-2.351418;53.390085
LOCATION:St George
URL:http://www.stgeorgesaltrincham.org/
END:VEVENT
BEGIN:VEVENT
SUMMARY:Women's Group
DTSTART;TZID=Europe/London:20251203T020000
DTEND;TZID=Europe/London:20251203T033000
DTSTAMP:20260423T042007Z
UID:8641712025-12-03 02:00:00+00:00achurchnearyou
CATEGORIES:
DESCRIPTION:Come along to this friendly group and get involved with projec
 ts that seek to help those in need.
GEO:-2.351418;53.390085
LOCATION:St George
URL:http://www.stgeorgesaltrincham.org/
END:VEVENT
BEGIN:VEVENT
SUMMARY:Women's Group
DTSTART;TZID=Europe/London:20260107T020000
DTEND;TZID=Europe/London:20260107T033000
DTSTAMP:20260423T042007Z
UID:8641712026-01-07 02:00:00+00:00achurchnearyou
CATEGORIES:
DESCRIPTION:Come along to this friendly group and get involved with projec
 ts that seek to help those in need.
GEO:-2.351418;53.390085
LOCATION:St George
URL:http://www.stgeorgesaltrincham.org/
END:VEVENT
BEGIN:VEVENT
SUMMARY:Women's Group
DTSTART;TZID=Europe/London:20260204T020000
DTEND;TZID=Europe/London:20260204T033000
DTSTAMP:20260423T042007Z
UID:8641712026-02-04 02:00:00+00:00achurchnearyou
CATEGORIES:
DESCRIPTION:Come along to this friendly group and get involved with projec
 ts that seek to help those in need.
GEO:-2.351418;53.390085
LOCATION:St George
URL:http://www.stgeorgesaltrincham.org/
END:VEVENT
BEGIN:VEVENT
SUMMARY:Women's Group
DTSTART;TZID=Europe/London:20260304T020000
DTEND;TZID=Europe/London:20260304T033000
DTSTAMP:20260423T042007Z
UID:8641712026-03-04 02:00:00+00:00achurchnearyou
CATEGORIES:
DESCRIPTION:Come along to this friendly group and get involved with projec
 ts that seek to help those in need.
GEO:-2.351418;53.390085
LOCATION:St George
URL:http://www.stgeorgesaltrincham.org/
END:VEVENT
BEGIN:VEVENT
SUMMARY:Women's Group
DTSTART;TZID=Europe/London:20260401T020000
DTEND;TZID=Europe/London:20260401T033000
DTSTAMP:20260423T042007Z
UID:8641712026-04-01 02:00:00+01:00achurchnearyou
CATEGORIES:
DESCRIPTION:Come along to this friendly group and get involved with projec
 ts that seek to help those in need.
GEO:-2.351418;53.390085
LOCATION:St George
URL:http://www.stgeorgesaltrincham.org/
END:VEVENT
BEGIN:VEVENT
SUMMARY:Women's Group
DTSTART;TZID=Europe/London:20260506T020000
DTEND;TZID=Europe/London:20260506T033000
DTSTAMP:20260423T042007Z
UID:8641712026-05-06 02:00:00+01:00achurchnearyou
CATEGORIES:
DESCRIPTION:Come along to this friendly group and get involved with projec
 ts that seek to help those in need.
GEO:-2.351418;53.390085
LOCATION:St George
URL:http://www.stgeorgesaltrincham.org/
END:VEVENT
BEGIN:VEVENT
SUMMARY:Women's Group
DTSTART;TZID=Europe/London:20260603T020000
DTEND;TZID=Europe/London:20260603T033000
DTSTAMP:20260423T042007Z
UID:8641712026-06-03 02:00:00+01:00achurchnearyou
CATEGORIES:
DESCRIPTION:Come along to this friendly group and get involved with projec
 ts that seek to help those in need.
GEO:-2.351418;53.390085
LOCATION:St George
URL:http://www.stgeorgesaltrincham.org/
END:VEVENT
BEGIN:VEVENT
SUMMARY:Women's Group
DTSTART;TZID=Europe/London:20260701T020000
DTEND;TZID=Europe/London:20260701T033000
DTSTAMP:20260423T042007Z
UID:8641712026-07-01 02:00:00+01:00achurchnearyou
CATEGORIES:
DESCRIPTION:Come along to this friendly group and get involved with projec
 ts that seek to help those in need.
GEO:-2.351418;53.390085
LOCATION:St George
URL:http://www.stgeorgesaltrincham.org/
END:VEVENT
BEGIN:VEVENT
SUMMARY:Women's Group
DTSTART;TZID=Europe/London:20260805T020000
DTEND;TZID=Europe/London:20260805T033000
DTSTAMP:20260423T042007Z
UID:8641712026-08-05 02:00:00+01:00achurchnearyou
CATEGORIES:
DESCRIPTION:Come along to this friendly group and get involved with projec
 ts that seek to help those in need.
GEO:-2.351418;53.390085
LOCATION:St George
URL:http://www.stgeorgesaltrincham.org/
END:VEVENT
BEGIN:VEVENT
SUMMARY:Women's Group
DTSTART;TZID=Europe/London:20260902T020000
DTEND;TZID=Europe/London:20260902T033000
DTSTAMP:20260423T042007Z
UID:8641712026-09-02 02:00:00+01:00achurchnearyou
CATEGORIES:
DESCRIPTION:Come along to this friendly group and get involved with projec
 ts that seek to help those in need.
GEO:-2.351418;53.390085
LOCATION:St George
URL:http://www.stgeorgesaltrincham.org/
END:VEVENT
BEGIN:VEVENT
SUMMARY:Women's Group
DTSTART;TZID=Europe/London:20261007T020000
DTEND;TZID=Europe/London:20261007T033000
DTSTAMP:20260423T042007Z
UID:8641712026-10-07 02:00:00+01:00achurchnearyou
CATEGORIES:
DESCRIPTION:Come along to this friendly group and get involved with projec
 ts that seek to help those in need.
GEO:-2.351418;53.390085
LOCATION:St George
URL:http://www.stgeorgesaltrincham.org/
END:VEVENT
BEGIN:VEVENT
SUMMARY:Women's Group
DTSTART;TZID=Europe/London:20261104T020000
DTEND;TZID=Europe/London:20261104T033000
DTSTAMP:20260423T042007Z
UID:8641712026-11-04 02:00:00+00:00achurchnearyou
CATEGORIES:
DESCRIPTION:Come along to this friendly group and get involved with projec
 ts that seek to help those in need.
GEO:-2.351418;53.390085
LOCATION:St George
URL:http://www.stgeorgesaltrincham.org/
END:VEVENT
BEGIN:VEVENT
SUMMARY:Women's Group
DTSTART;TZID=Europe/London:20261202T020000
DTEND;TZID=Europe/London:20261202T033000
DTSTAMP:20260423T042007Z
UID:8641712026-12-02 02:00:00+00:00achurchnearyou
CATEGORIES:
DESCRIPTION:Come along to this friendly group and get involved with projec
 ts that seek to help those in need.
GEO:-2.351418;53.390085
LOCATION:St George
URL:http://www.stgeorgesaltrincham.org/
END:VEVENT
BEGIN:VEVENT
SUMMARY:Women's Group
DTSTART;TZID=Europe/London:20270106T020000
DTEND;TZID=Europe/London:20270106T033000
DTSTAMP:20260423T042007Z
UID:8641712027-01-06 02:00:00+00:00achurchnearyou
CATEGORIES:
DESCRIPTION:Come along to this friendly group and get involved with projec
 ts that seek to help those in need.
GEO:-2.351418;53.390085
LOCATION:St George
URL:http://www.stgeorgesaltrincham.org/
END:VEVENT
BEGIN:VEVENT
SUMMARY:Women's Group
DTSTART;TZID=Europe/London:20270203T020000
DTEND;TZID=Europe/London:20270203T033000
DTSTAMP:20260423T042007Z
UID:8641712027-02-03 02:00:00+00:00achurchnearyou
CATEGORIES:
DESCRIPTION:Come along to this friendly group and get involved with projec
 ts that seek to help those in need.
GEO:-2.351418;53.390085
LOCATION:St George
URL:http://www.stgeorgesaltrincham.org/
END:VEVENT
BEGIN:VEVENT
SUMMARY:Women's Group
DTSTART;TZID=Europe/London:20270303T020000
DTEND;TZID=Europe/London:20270303T033000
DTSTAMP:20260423T042007Z
UID:8641712027-03-03 02:00:00+00:00achurchnearyou
CATEGORIES:
DESCRIPTION:Come along to this friendly group and get involved with projec
 ts that seek to help those in need.
GEO:-2.351418;53.390085
LOCATION:St George
URL:http://www.stgeorgesaltrincham.org/
END:VEVENT
BEGIN:VEVENT
SUMMARY:Women's Group
DTSTART;TZID=Europe/London:20270407T020000
DTEND;TZID=Europe/London:20270407T033000
DTSTAMP:20260423T042007Z
UID:8641712027-04-07 02:00:00+01:00achurchnearyou
CATEGORIES:
DESCRIPTION:Come along to this friendly group and get involved with projec
 ts that seek to help those in need.
GEO:-2.351418;53.390085
LOCATION:St George
URL:http://www.stgeorgesaltrincham.org/
END:VEVENT
END:VCALENDAR
