BEGIN:VCALENDAR
VERSION:2.0
PRODID:-//achurchnearyou.com//eventfeed//EN
CALSCALE:GREGORIAN
METHOD:PUBLISH
X-WR-TIMEZONE:UTC
BEGIN:VEVENT
SUMMARY:Community Carols 20 December at 2pm
DTSTART:20251220T140000Z
DTEND:20251220T150000Z
DTSTAMP:20260424T074146Z
UID:12531032025-12-20 14:00:00+00:00achurchnearyou
CATEGORIES:
DESCRIPTION:Come along and spread some Christmas cheer among the shoppers 
 with our community carol singing at the Broadheath Retail park.  Meet outs
 ide Lidl at 2pm.
GEO:-2.352056;53.4025
LOCATION:St Albans Broadheath
URL:https://www.achurchnearyou.com/church/12737/service-and-events/events/
 1253103/
END:VEVENT
END:VCALENDAR
